BEGIN:VCALENDAR
VERSION:2.0
PRODID:-//Društvo Parada Ponosa - ECPv6.15.17.1//NONSGML v1.0//EN
CALSCALE:GREGORIAN
METHOD:PUBLISH
X-WR-CALNAME:Društvo Parada Ponosa
X-ORIGINAL-URL:https://ljubljanapride.org
X-WR-CALDESC:Dogodki za Društvo Parada Ponosa
REFRESH-INTERVAL;VALUE=DURATION:PT1H
X-Robots-Tag:noindex
X-PUBLISHED-TTL:PT1H
BEGIN:VTIMEZONE
TZID:Europe/Ljubljana
BEGIN:DAYLIGHT
TZOFFSETFROM:+0100
TZOFFSETTO:+0200
TZNAME:CEST
DTSTART:20230326T010000
END:DAYLIGHT
BEGIN:STANDARD
TZOFFSETFROM:+0200
TZOFFSETTO:+0100
TZNAME:CET
DTSTART:20231029T010000
END:STANDARD
BEGIN:DAYLIGHT
TZOFFSETFROM:+0100
TZOFFSETTO:+0200
TZNAME:CEST
DTSTART:20240331T010000
END:DAYLIGHT
BEGIN:STANDARD
TZOFFSETFROM:+0200
TZOFFSETTO:+0100
TZNAME:CET
DTSTART:20241027T010000
END:STANDARD
BEGIN:DAYLIGHT
TZOFFSETFROM:+0100
TZOFFSETTO:+0200
TZNAME:CEST
DTSTART:20250330T010000
END:DAYLIGHT
BEGIN:STANDARD
TZOFFSETFROM:+0200
TZOFFSETTO:+0100
TZNAME:CET
DTSTART:20251026T010000
END:STANDARD
END:VTIMEZONE
BEGIN:VEVENT
DTSTART;TZID=Europe/Ljubljana:20240408T080000
DTEND;TZID=Europe/Ljubljana:20240414T170000
DTSTAMP:20260420T154128
CREATED:20240111T100653Z
LAST-MODIFIED:20240306T131006Z
UID:8718-1712563200-1713114000@ljubljanapride.org
SUMMARY:Mladinska Izmenjava - Vrstniško izobraževanje
DESCRIPTION:Poziv za mlade LGBTIQ+ osebe: mladinska izmenjava na temo vrstniškega izobraževanja \n  \nDruštvo Parada ponosa išče mlade LGBTIQ+ osebe stare med 18 in 29 let\, ki bi sodelovale_i na mladinski izmenjavi na temo vrstniškega izobraževanja\, ki bo potekala v Mladinskem centru Brežice med 8.-14.4. \n  \nČe si mlada LGBTIQ+ oseba\, ki želi s svojimi vrstnicami_ki deliti informacije in izkušnje o določenih temah\, kot so skrb o okolju\, spolna vzgoja\, intersekcionalnost\, LGBTIQ+ aktivizem\, potem je to vabilo  zate! \n  \nMladinska izmenjava bo združila mlade LGBTIQ+ osebe iz Slovenije\, Španije\, Severne Makedonije in Nemčije in je odlična priložnost za navezovanje novih stikov ter izmenjavo izkušenj! \n  \nZnotraj izmenjave boste dobile_i: \n\nMožnost spoznavanja novih LGBTIQ+ mladih iz Slovenije in širše;\nNova znanje in veščine o vrstniškem izobraževanju kot konceptu\, ki vam lahko pomaga pri informiranju in deljenju izkušenj in znanj med sovrstnicami_ki;\nPodporo pri razvijanju ideje\, ki jo želite prinesti v svojo skupnost;\nKrite stroške nastanitve\, hrane in poti.\n\n  \nUdeleženke_ci boste raziskovale_i in delile_i primere dobrih praks ter delile_i svoje izkušnje z različnih področij\, relevantnih za LGBTIQ+ skupnost v Sloveniji in Evropi. \n  \n  \nVse aktivnosti bodo potekale v angleškem jeziku. \nČe si zainteresiran_a\, se prijavi tukaj: Prijavnica \n  \n  \nRok za prijavo je 20.3.2024! \n  \nAktivnost financira Evropska unija.
URL:https://ljubljanapride.org/event/mladinska-izmenjava-vrstnisko-izobrazevanje/
ATTACH;FMTTYPE=image/png:https://ljubljanapride.org/wp-content/uploads/2024/01/brezice_youthexchange.png
END:VEVENT
END:VCALENDAR