BEGIN:VCALENDAR
VERSION:2.0
PRODID:-//Društvo Parada Ponosa - ECPv6.15.17.1//NONSGML v1.0//EN
CALSCALE:GREGORIAN
METHOD:PUBLISH
X-WR-CALNAME:Društvo Parada Ponosa
X-ORIGINAL-URL:https://ljubljanapride.org
X-WR-CALDESC:Dogodki za Društvo Parada Ponosa
REFRESH-INTERVAL;VALUE=DURATION:PT1H
X-Robots-Tag:noindex
X-PUBLISHED-TTL:PT1H
BEGIN:VTIMEZONE
TZID:Europe/Ljubljana
BEGIN:DAYLIGHT
TZOFFSETFROM:+0100
TZOFFSETTO:+0200
TZNAME:CEST
DTSTART:20240331T010000
END:DAYLIGHT
BEGIN:STANDARD
TZOFFSETFROM:+0200
TZOFFSETTO:+0100
TZNAME:CET
DTSTART:20241027T010000
END:STANDARD
BEGIN:DAYLIGHT
TZOFFSETFROM:+0100
TZOFFSETTO:+0200
TZNAME:CEST
DTSTART:20250330T010000
END:DAYLIGHT
BEGIN:STANDARD
TZOFFSETFROM:+0200
TZOFFSETTO:+0100
TZNAME:CET
DTSTART:20251026T010000
END:STANDARD
BEGIN:DAYLIGHT
TZOFFSETFROM:+0100
TZOFFSETTO:+0200
TZNAME:CEST
DTSTART:20260329T010000
END:DAYLIGHT
BEGIN:STANDARD
TZOFFSETFROM:+0200
TZOFFSETTO:+0100
TZNAME:CET
DTSTART:20261025T010000
END:STANDARD
END:VTIMEZONE
BEGIN:VEVENT
DTSTART;TZID=Europe/Ljubljana:20251124T090000
DTEND;TZID=Europe/Ljubljana:20251128T170000
DTSTAMP:20260420T025711
CREATED:20251022T123558Z
LAST-MODIFIED:20251112T122303Z
UID:10951-1763974800-1764349200@ljubljanapride.org
SUMMARY:NEUSTAVLJIVI: Vrhovni forum organizatorjev parad ponosa 2025
DESCRIPTION:Med 24. in 28. novembrom 2025 bo v Ljubljani potekal “Vrhovni forum organizatork_jev_k parad ponosa 2025”. \nSofinancirata in soorganizirata: Društvo Parada ponosa Ljubljana in ILGA-Europe. \nILGA-Europe in Društvo Parada ponosa Ljubljana vabita organizator_ke parad ponosa iz Evrope in Srednje Azije na NEUSTAVLJIVI: vrhovni forum organizatork_jev parad ponosa\, seminar\, namenjen strateškemu razmisleku o prihodnosti parad\, izmenjavi izkušenj in krepitvi skupnosti oseb\, ki soustvarjajo parade ponosa. Organizator_ke parad ponosa po vsej Evropi in Srednji Aziji že vrsto let premikajo meje in rušijo ovire – danes pa svet bolj kot kadar koli prej potrebuje to energijo in moč parad ponosa. \nV času naraščajočega avtoritarizma in krčenja prostora civilne družbe\, ob vse večji razdeljenosti in polarizaciji skupnosti ter družb\, so parade ponosa hkrati ranljive in močne. Vse pogosteje se soočajo z napadi\, prepovedmi in notranjimi razkoli\, a kljub temu ostajajo ena najmočnejših oblik kolektivnega delovanja in izraza moči skupnosti LGBTIQ+ oseb. Imajo edinstven potencial\, da spodbujajo državljansko udeležbo in prispevajo k širšim družbenim spremembam. \nForum NEUSTAVLJIVI bo združil organizatork_jev parad iz vse regije\, da se skupaj ustavimo\, razmislimo in delimo izkušnje.Namen srečanja je strateški razmislek o trendih\, tveganjih in priložnostih\, ki jih prinaša organizacija parad ponosa. \nSkozi strateški dialog\, medsebojno učenje in mreženje bomo raziskovali\, kako lahko parade ponosa: \n\n\nše naprej delujejo kot gonilna sila družbenih sprememb\, \n\n\nse povezujejo z demokratičnimi in progresivnimi družbenimi gibanji\, \n\n\nter okrepijo svoje organizacijske kapacitete in odpornost. \n\n\nDogodek bo priložnost\, da proslavimo dosežke parad ponosa po regiji\, skupaj naslovimo izzive in zagotovimo\, da parade ponosa ostanejo neustavljiva sila pri soustvarjanju boljše\, pravičnejše in vključujoče prihodnosti za vse naše skupnosti in družbe kot celoto. \n\n📣 Javni poziv k sodelovanju:\nNEUSTAVLJIVI: Vrhovni forum organizatorjev parad ponosa | ILGA-Europe
URL:https://ljubljanapride.org/event/neustavljivi-vrhovni-forum-organizatorjev-parad-ponosa-2025/
ATTACH;FMTTYPE=image/jpeg:https://ljubljanapride.org/wp-content/uploads/2025/10/Ilga_website_design-scaled.jpg
END:VEVENT
END:VCALENDAR