BEGIN:VCALENDAR
VERSION:2.0
PRODID:-//Društvo Parada Ponosa - ECPv6.15.17.1//NONSGML v1.0//EN
CALSCALE:GREGORIAN
METHOD:PUBLISH
X-WR-CALNAME:Društvo Parada Ponosa
X-ORIGINAL-URL:https://ljubljanapride.org
X-WR-CALDESC:Dogodki za Društvo Parada Ponosa
REFRESH-INTERVAL;VALUE=DURATION:PT1H
X-Robots-Tag:noindex
X-PUBLISHED-TTL:PT1H
BEGIN:VTIMEZONE
TZID:Europe/Helsinki
BEGIN:DAYLIGHT
TZOFFSETFROM:+0200
TZOFFSETTO:+0300
TZNAME:EEST
DTSTART:20190331T010000
END:DAYLIGHT
BEGIN:STANDARD
TZOFFSETFROM:+0300
TZOFFSETTO:+0200
TZNAME:EET
DTSTART:20191027T010000
END:STANDARD
BEGIN:DAYLIGHT
TZOFFSETFROM:+0200
TZOFFSETTO:+0300
TZNAME:EEST
DTSTART:20200329T010000
END:DAYLIGHT
BEGIN:STANDARD
TZOFFSETFROM:+0300
TZOFFSETTO:+0200
TZNAME:EET
DTSTART:20201025T010000
END:STANDARD
BEGIN:DAYLIGHT
TZOFFSETFROM:+0200
TZOFFSETTO:+0300
TZNAME:EEST
DTSTART:20210328T010000
END:DAYLIGHT
BEGIN:STANDARD
TZOFFSETFROM:+0300
TZOFFSETTO:+0200
TZNAME:EET
DTSTART:20211031T010000
END:STANDARD
END:VTIMEZONE
BEGIN:VEVENT
DTSTART;TZID=Europe/Helsinki:20200211T180000
DTEND;TZID=Europe/Helsinki:20200211T200000
DTSTAMP:20260424T130532
CREATED:20200210T151146Z
LAST-MODIFIED:20200210T151146Z
UID:3326-1581444000-1581451200@ljubljanapride.org
SUMMARY:Parada povezuje: Artivizem
DESCRIPTION:V februarju bodo dogodki Parada povezuje posvečeni iskanju in odkrivanju najboljšega aktivizma za vsako_ega od nas. 100 ljudi\, 100 čudi\, 100 aktivizmov. Ne glede na to\, ali greš raje na ulico in protestiraš\, raje izvajaš poučne delavnice z mladimi ali raje svojo zgodbo deliš skozi umetnost – če imaš željo po tem\, da spreminjaš svet in zahtevaš spremembe za boljši jutri\, zagotovo obstaja vrsta aktivizma\, ki bo dala glas tvojim idejam. ? \nTa torek te vabimo\, da se preizkusiš v artivizmu. Artivizem pomeni umetnost kot aktivizem in obratno. Še nisi uporabljal_a umetnosti kot medija komunikacije? Misliš\, da umetnost ni zate? Ne verjameš\, da lahko umetniška dela zelo naglas kričijo? Pridi in daj priložnost gostujočemu artivistu Filipu Vurniku\, da ti dokaže nasprotno. \nZa inspiracijo bo poskrbela tudi mini razstava z deli naših lokalnih artivistk_ov\, Daniela Arzole in Antonija Karadzoskega. \n?️ S ‘Parada povezuje’ si prizadevamo povezati lokalne LGBTIQ+ mlade\, aktivistke_e in vse\, ki jih zanima politična plat parad ponosa in boji za človekove pravice LGBTIQ+ oseb v Sloveniji in po svetu. \nZavedamo se\, da je to\, da se pojavimo kot LGBTIQ+ osebe na ulici\, samo po sebi politično dejanje. In vemo\, da to ni enostavno – zato želimo ustvarjati varen(varnejši) prostor za vse LGBTIQ+ osebe in prostor opolnomočenja.
URL:https://ljubljanapride.org/event/parada-povezuje-artivizem/
LOCATION:Društvo Parada ponosa\, Dunajska cesta 10\, Ljubljana
ATTACH;FMTTYPE=image/jpeg:https://ljubljanapride.org/wp-content/uploads/2020/02/Artivizem-P.P..jpg
ORGANIZER;CN="Dru%C5%A1tvo Parada ponosa":MAILTO:info@ljubljanapride.org
END:VEVENT
END:VCALENDAR