BEGIN:VCALENDAR
VERSION:2.0
PRODID:-//Društvo Parada Ponosa - ECPv6.15.17.1//NONSGML v1.0//EN
CALSCALE:GREGORIAN
METHOD:PUBLISH
X-WR-CALNAME:Društvo Parada Ponosa
X-ORIGINAL-URL:https://ljubljanapride.org
X-WR-CALDESC:Dogodki za Društvo Parada Ponosa
REFRESH-INTERVAL;VALUE=DURATION:PT1H
X-Robots-Tag:noindex
X-PUBLISHED-TTL:PT1H
BEGIN:VTIMEZONE
TZID:Europe/Ljubljana
BEGIN:DAYLIGHT
TZOFFSETFROM:+0100
TZOFFSETTO:+0200
TZNAME:CEST
DTSTART:20210328T010000
END:DAYLIGHT
BEGIN:STANDARD
TZOFFSETFROM:+0200
TZOFFSETTO:+0100
TZNAME:CET
DTSTART:20211031T010000
END:STANDARD
BEGIN:DAYLIGHT
TZOFFSETFROM:+0100
TZOFFSETTO:+0200
TZNAME:CEST
DTSTART:20220327T010000
END:DAYLIGHT
BEGIN:STANDARD
TZOFFSETFROM:+0200
TZOFFSETTO:+0100
TZNAME:CET
DTSTART:20221030T010000
END:STANDARD
BEGIN:DAYLIGHT
TZOFFSETFROM:+0100
TZOFFSETTO:+0200
TZNAME:CEST
DTSTART:20230326T010000
END:DAYLIGHT
BEGIN:STANDARD
TZOFFSETFROM:+0200
TZOFFSETTO:+0100
TZNAME:CET
DTSTART:20231029T010000
END:STANDARD
END:VTIMEZONE
BEGIN:VEVENT
DTSTART;TZID=Europe/Ljubljana:20220913T180000
DTEND;TZID=Europe/Ljubljana:20220913T200000
DTSTAMP:20260421T143306
CREATED:20220908T124513Z
LAST-MODIFIED:20220908T124559Z
UID:6869-1663092000-1663099200@ljubljanapride.org
SUMMARY:Parada povezuje: “Choose your fighter\, The elections guide”
DESCRIPTION:Ste med poletnimi počitnicami pogrešale_i Pride Connects?\nNič bat saj smo nazaj! \nV torek\, 13. septembra bo med 18.00 in 20.00 uro v pisarnah na Dunajski 10 potekal prvi Pride Connects nove sezone. \nAli si se že odločil_a\, koga boš volil_a na prihajajočih lokalnih volitvah?\nČe ne\, se nam pridruži na Pride Connects\, kjer bomo govorili_e o tem\, kako informirano sprejeti odločitev o posameznicah_kih\, ki nas zastopajo. Pogovarjali_e so bomo o tem kje najti informacije iz zanesljivih virov o politikih in političnih strankah\, ki jih zastopajo. \nUpamo\, da bo ta Pride Connects pomogel k temu\, da se boš udeležil_a volitev\, saj vsak glas šteje!\nDogodek bo potekal v angleškem jeziku. \nČe se dogodka ne moreš udeležiti\, nam še vedno lahko sporočiš svoja pričakovanja od lokalnih volitev\, tako\, da izpolniš spodnjo anketo: https://tinyurl.com/yckzedtu \nDogodek podpira Evropska mladinska fundacija Sveta Evrope.\n#eyfcoe
URL:https://ljubljanapride.org/event/parada-povezuje-choose-your-fighter-the-elections-guide/
LOCATION:Društvo Parada ponosa\, Dunajska cesta 10
ATTACH;FMTTYPE=image/png:https://ljubljanapride.org/wp-content/uploads/2022/09/PCE-Choose-your-fighter-e1662641102695.png
END:VEVENT
END:VCALENDAR