BEGIN:VCALENDAR
VERSION:2.0
PRODID:-//Društvo Parada Ponosa - ECPv6.15.17.1//NONSGML v1.0//EN
CALSCALE:GREGORIAN
METHOD:PUBLISH
X-WR-CALNAME:Društvo Parada Ponosa
X-ORIGINAL-URL:https://ljubljanapride.org
X-WR-CALDESC:Dogodki za Društvo Parada Ponosa
REFRESH-INTERVAL;VALUE=DURATION:PT1H
X-Robots-Tag:noindex
X-PUBLISHED-TTL:PT1H
BEGIN:VTIMEZONE
TZID:Europe/Helsinki
BEGIN:DAYLIGHT
TZOFFSETFROM:+0200
TZOFFSETTO:+0300
TZNAME:EEST
DTSTART:20190331T010000
END:DAYLIGHT
BEGIN:STANDARD
TZOFFSETFROM:+0300
TZOFFSETTO:+0200
TZNAME:EET
DTSTART:20191027T010000
END:STANDARD
BEGIN:DAYLIGHT
TZOFFSETFROM:+0200
TZOFFSETTO:+0300
TZNAME:EEST
DTSTART:20200329T010000
END:DAYLIGHT
BEGIN:STANDARD
TZOFFSETFROM:+0300
TZOFFSETTO:+0200
TZNAME:EET
DTSTART:20201025T010000
END:STANDARD
BEGIN:DAYLIGHT
TZOFFSETFROM:+0200
TZOFFSETTO:+0300
TZNAME:EEST
DTSTART:20210328T010000
END:DAYLIGHT
BEGIN:STANDARD
TZOFFSETFROM:+0300
TZOFFSETTO:+0200
TZNAME:EET
DTSTART:20211031T010000
END:STANDARD
END:VTIMEZONE
BEGIN:VEVENT
DTSTART;TZID=Europe/Helsinki:20200310T180000
DTEND;TZID=Europe/Helsinki:20200310T200000
DTSTAMP:20260424T094125
CREATED:20200310T101421Z
LAST-MODIFIED:20200310T101421Z
UID:3465-1583863200-1583870400@ljubljanapride.org
SUMMARY:Parada povezuje: Vidnost transspolnih oseb
DESCRIPTION:Enaintrideseti marec je mednarodni dan vidnosti transspolnih oseb. Marčevski dogodki Parada povezuje bodo zato posvečeni raziskovanju vidnosti transspolnih oseb. Na dogodkih se nam bodo pridružile_i gostje_i\, s katerim bomo razpravljale_i o vidnosti\, dotaknile_i se bomo zgodovine transspolne skupnosti\, naredile_i pregled dogodkov\, ki so se in se bodo zgodili na 31. 3.\, ter vam ponudile_i sproščeno vzdušje in odprt prostor\, da same_i ustvarite nekaj ob dnevu vidnosti transspolnih oseb. Vabimo vas\, da se nam pridružite ne glede na vašo spolno identiteto\, da z nami soustvarjate\, se učite in aktivirate! \nZa uvod v tematiko nas bo v torek\, 10. 3.\, obiskal Aoi Osenjak\, ki je zaradi svoje pozicije v Piratski stranki precej viden v splošni slovenski javnosti. Z nami bo delil svojo izkušnjo in mnenje: kaj prinaša večja vidnost transspolnim osebam\, ki so v takšnem in drugačnem soju žarometov\, ter kaj to prinaša ostalim članicam_om LGBTIQ+ skupnosti? Kako lahko vidnost pridobimo\, uporabimo in kaj sploh lahko dosežemo z njo? \n?️ S ‘Parada povezuje’ si prizadevamo povezati lokalne LGBTIQ+ mlade\, aktivistke_e in vse\, ki jih zanima politična plat parad ponosa in boji za človekove pravice LGBTIQ+ oseb v Sloveniji in po svetu. \nZavedamo se\, da je to\, da se pojavimo kot LGBTIQ+ osebe na ulici\, samo po sebi politično dejanje. In vemo\, da to ni enostavno – zato želimo ustvarjati varen(varnejši) prostor za vse LGBTIQ+ osebe in prostor opolnomočenja.
URL:https://ljubljanapride.org/event/parada-povezuje-vidnost-transspolnih-oseb/
LOCATION:Društvo Parada ponosa\, Dunajska cesta 10\, Ljubljana
ATTACH;FMTTYPE=image/jpeg:https://ljubljanapride.org/wp-content/uploads/2020/03/vidnost-transpolnih-oseb-Cover.jpg
ORGANIZER;CN="Dru%C5%A1tvo Parada ponosa":MAILTO:info@ljubljanapride.org
END:VEVENT
END:VCALENDAR