BEGIN:VCALENDAR
VERSION:2.0
PRODID:-//Društvo Parada Ponosa - ECPv6.15.17.1//NONSGML v1.0//EN
CALSCALE:GREGORIAN
METHOD:PUBLISH
X-WR-CALNAME:Društvo Parada Ponosa
X-ORIGINAL-URL:https://ljubljanapride.org
X-WR-CALDESC:Dogodki za Društvo Parada Ponosa
REFRESH-INTERVAL;VALUE=DURATION:PT1H
X-Robots-Tag:noindex
X-PUBLISHED-TTL:PT1H
BEGIN:VTIMEZONE
TZID:Europe/Ljubljana
BEGIN:DAYLIGHT
TZOFFSETFROM:+0100
TZOFFSETTO:+0200
TZNAME:CEST
DTSTART:20250330T010000
END:DAYLIGHT
BEGIN:STANDARD
TZOFFSETFROM:+0200
TZOFFSETTO:+0100
TZNAME:CET
DTSTART:20251026T010000
END:STANDARD
BEGIN:DAYLIGHT
TZOFFSETFROM:+0100
TZOFFSETTO:+0200
TZNAME:CEST
DTSTART:20260329T010000
END:DAYLIGHT
BEGIN:STANDARD
TZOFFSETFROM:+0200
TZOFFSETTO:+0100
TZNAME:CET
DTSTART:20261025T010000
END:STANDARD
BEGIN:DAYLIGHT
TZOFFSETFROM:+0100
TZOFFSETTO:+0200
TZNAME:CEST
DTSTART:20270328T010000
END:DAYLIGHT
BEGIN:STANDARD
TZOFFSETFROM:+0200
TZOFFSETTO:+0100
TZNAME:CET
DTSTART:20271031T010000
END:STANDARD
END:VTIMEZONE
BEGIN:VEVENT
DTSTART;TZID=Europe/Ljubljana:20260206T080000
DTEND;TZID=Europe/Ljubljana:20260207T170000
DTSTAMP:20260422T103352
CREATED:20260130T112241Z
LAST-MODIFIED:20260130T124129Z
UID:11174-1770364800-1770483600@ljubljanapride.org
SUMMARY:Paradni laboratorij demokracije
DESCRIPTION:V ekipi Društva Parada ponosa vsako leto poskrbimo za krepitev svojih znanj\, veščin in strategij\, za bolj poglobljeno delovanje na ključnih področjih\, ki zadevajo LGBTIQ+ skupnost. \nV letu 2026 se posvečamo temi demokracije. Živimo v svetu in času\, ko je očitno\, da je prav soudeležba v demokratičnih procesih tista\, ki nam svet obrne v smeri “boljšega jutri” ali pa v smeri nazadnjaštva in sovraštva. \nZato smo tudi LGBTIQ+ organizacije zavezane h krepitvi demokracije. \nKljučno je\, da se čim več LGBTIQ+ mladih angažira v družbenih in demokratičnih procesih. Čim več nas mora sodelovati na volitvah\, kot volilke_ci in kot kandidatke_i – to je skorajda edini način\, ki nam ostaja\, da zaščitimo obstoječe človekove pravice in se borimo naprej za človekovo dostojanstvo za vse. \nNaša ekipa bo skupaj preživela dva intenzivna dneva\, kjer bomo temo demokracije vtkale_i tudi v jedro Festivala Parada ponosa 2026. \nAktivnosti Paradnega laboratorija demokracije nam finančno omogoča ILGA Europe.
URL:https://ljubljanapride.org/event/paradni-laboratorij-demokracije/
ATTACH;FMTTYPE=image/png:https://ljubljanapride.org/wp-content/uploads/2026/01/Paradni_laboratorij_demokracije.png
END:VEVENT
END:VCALENDAR