BEGIN:VCALENDAR
VERSION:2.0
PRODID:-//Društvo Parada Ponosa - ECPv6.15.17.1//NONSGML v1.0//EN
CALSCALE:GREGORIAN
METHOD:PUBLISH
X-WR-CALNAME:Društvo Parada Ponosa
X-ORIGINAL-URL:https://ljubljanapride.org
X-WR-CALDESC:Dogodki za Društvo Parada Ponosa
REFRESH-INTERVAL;VALUE=DURATION:PT1H
X-Robots-Tag:noindex
X-PUBLISHED-TTL:PT1H
BEGIN:VTIMEZONE
TZID:Europe/Ljubljana
BEGIN:DAYLIGHT
TZOFFSETFROM:+0100
TZOFFSETTO:+0200
TZNAME:CEST
DTSTART:20230326T010000
END:DAYLIGHT
BEGIN:STANDARD
TZOFFSETFROM:+0200
TZOFFSETTO:+0100
TZNAME:CET
DTSTART:20231029T010000
END:STANDARD
BEGIN:DAYLIGHT
TZOFFSETFROM:+0100
TZOFFSETTO:+0200
TZNAME:CEST
DTSTART:20240331T010000
END:DAYLIGHT
BEGIN:STANDARD
TZOFFSETFROM:+0200
TZOFFSETTO:+0100
TZNAME:CET
DTSTART:20241027T010000
END:STANDARD
BEGIN:DAYLIGHT
TZOFFSETFROM:+0100
TZOFFSETTO:+0200
TZNAME:CEST
DTSTART:20250330T010000
END:DAYLIGHT
BEGIN:STANDARD
TZOFFSETFROM:+0200
TZOFFSETTO:+0100
TZNAME:CET
DTSTART:20251026T010000
END:STANDARD
END:VTIMEZONE
BEGIN:VEVENT
DTSTART;TZID=Europe/Ljubljana:20240119T080000
DTEND;TZID=Europe/Ljubljana:20240122T170000
DTSTAMP:20260420T171622
CREATED:20240111T095947Z
LAST-MODIFIED:20240112T093934Z
UID:8697-1705651200-1705942800@ljubljanapride.org
SUMMARY:Na mednarodno partnersko srečanje v  Barcelono!
DESCRIPTION:Dve sodelavki se bosta udeležili mednarodnega partnerskega sestanka\, ki bo tokrat potekal v Barceloni\, da v mednarodnem duhu načrtujejo naslednje korake projekta Rainbow Peer Forces\, znotraj katerega delujejo mavrične_i tutorke_ji – skupina vrstniških izobraževalk_cev Društva Parada ponosa. \nZnotraj projekta pripravljamo mentorsko shemo in module usposabljanj za mavrične tutorke_je ter druge materiale namenjene vsem\, ki delajo z mladimi\, še posebej če podpirajo vrstniške izobraževalke_ce. \nProjekt se izvaja v okviru mednarodnega strateškega partnerstva\, ki ga financira Evropska Unija.
URL:https://ljubljanapride.org/event/partnerski-sestanek-znotraj-projekta-rainbow-peer-forces/
ATTACH;FMTTYPE=image/png:https://ljubljanapride.org/wp-content/uploads/2024/01/Rainbow-Peer-Forces-630-×-331-px-630-×-470-px1-e1704967139958.png
END:VEVENT
END:VCALENDAR