BEGIN:VCALENDAR
VERSION:2.0
PRODID:-//Društvo Parada Ponosa - ECPv6.15.17.1//NONSGML v1.0//EN
CALSCALE:GREGORIAN
METHOD:PUBLISH
X-WR-CALNAME:Društvo Parada Ponosa
X-ORIGINAL-URL:https://ljubljanapride.org
X-WR-CALDESC:Dogodki za Društvo Parada Ponosa
REFRESH-INTERVAL;VALUE=DURATION:PT1H
X-Robots-Tag:noindex
X-PUBLISHED-TTL:PT1H
BEGIN:VTIMEZONE
TZID:Europe/Ljubljana
BEGIN:DAYLIGHT
TZOFFSETFROM:+0100
TZOFFSETTO:+0200
TZNAME:CEST
DTSTART:20210328T010000
END:DAYLIGHT
BEGIN:STANDARD
TZOFFSETFROM:+0200
TZOFFSETTO:+0100
TZNAME:CET
DTSTART:20211031T010000
END:STANDARD
BEGIN:DAYLIGHT
TZOFFSETFROM:+0100
TZOFFSETTO:+0200
TZNAME:CEST
DTSTART:20220327T010000
END:DAYLIGHT
BEGIN:STANDARD
TZOFFSETFROM:+0200
TZOFFSETTO:+0100
TZNAME:CET
DTSTART:20221030T010000
END:STANDARD
BEGIN:DAYLIGHT
TZOFFSETFROM:+0100
TZOFFSETTO:+0200
TZNAME:CEST
DTSTART:20230326T010000
END:DAYLIGHT
BEGIN:STANDARD
TZOFFSETFROM:+0200
TZOFFSETTO:+0100
TZNAME:CET
DTSTART:20231029T010000
END:STANDARD
END:VTIMEZONE
BEGIN:VEVENT
DTSTART;TZID=Europe/Ljubljana:20220927T170000
DTEND;TZID=Europe/Ljubljana:20220927T183000
DTSTAMP:20260421T175145
CREATED:20220829T093026Z
LAST-MODIFIED:20220829T095350Z
UID:6777-1664298000-1664303400@ljubljanapride.org
SUMMARY:Pejte na tote lokalne volitve!
DESCRIPTION:Se boš jeseni prvič udeležil_a lokalnih volitev?\nSi želiš izvedeti več o pristojnostih in priložnostih za spremembe\, ki jih ponuja lokalna politika?\nSi želiš sooblikovati prihodnost LGBTIQ+ mladih v svojem lokalnem okolju in se aktivno vključiti v demokratično življenje? \nČe si na katero od vprašanj odgovoril_a z “DA!” se nam pridruži na dogodku “Pejte na tote lokalne volitve!”\, ki bo potekal v torek\, 27. septembra 2022 od 17.00 do 18.30 ure v Pritličju (Mestni trg 2\, Ljubljana). \nNa dogodku boš prejel_a osnovne informacije o delovanju organov lokalne samouprave\, ki ti bodo pomagale\, da na novembrskih lokalnih volitvah lažje uveljaviš svojo voljo in da lahko s svojimi pobudami v prihodnje sooblikuješ lokalne politike. \nV kolikor bi se dogodka želel_a pridružiti preko Zoom-a prosim izpolni vprašalnik: https://forms.gle/cXnJnarP8kqCqtMi7 \nDogodek poteka v sklopu Evropskega leta mladih 2022.
URL:https://ljubljanapride.org/event/pejte-na-tote-lokalne-volitve/
LOCATION:Pritličje (Mestni trg 2\, Ljubljana)\, Mestni trg 2\, Ljubljana
ATTACH;FMTTYPE=image/jpeg:https://ljubljanapride.org/wp-content/uploads/2022/08/Pejte-na-tote-lokalne-volitve_ig-scaled.jpg
END:VEVENT
END:VCALENDAR