BEGIN:VCALENDAR
VERSION:2.0
PRODID:-//Društvo Parada Ponosa - ECPv6.15.17.1//NONSGML v1.0//EN
CALSCALE:GREGORIAN
METHOD:PUBLISH
X-WR-CALNAME:Društvo Parada Ponosa
X-ORIGINAL-URL:https://ljubljanapride.org
X-WR-CALDESC:Dogodki za Društvo Parada Ponosa
REFRESH-INTERVAL;VALUE=DURATION:PT1H
X-Robots-Tag:noindex
X-PUBLISHED-TTL:PT1H
BEGIN:VTIMEZONE
TZID:Europe/Helsinki
BEGIN:DAYLIGHT
TZOFFSETFROM:+0200
TZOFFSETTO:+0300
TZNAME:EEST
DTSTART:20190331T010000
END:DAYLIGHT
BEGIN:STANDARD
TZOFFSETFROM:+0300
TZOFFSETTO:+0200
TZNAME:EET
DTSTART:20191027T010000
END:STANDARD
BEGIN:DAYLIGHT
TZOFFSETFROM:+0200
TZOFFSETTO:+0300
TZNAME:EEST
DTSTART:20200329T010000
END:DAYLIGHT
BEGIN:STANDARD
TZOFFSETFROM:+0300
TZOFFSETTO:+0200
TZNAME:EET
DTSTART:20201025T010000
END:STANDARD
BEGIN:DAYLIGHT
TZOFFSETFROM:+0200
TZOFFSETTO:+0300
TZNAME:EEST
DTSTART:20210328T010000
END:DAYLIGHT
BEGIN:STANDARD
TZOFFSETFROM:+0300
TZOFFSETTO:+0200
TZNAME:EET
DTSTART:20211031T010000
END:STANDARD
END:VTIMEZONE
BEGIN:VEVENT
DTSTART;TZID=Europe/Helsinki:20200924T190000
DTEND;TZID=Europe/Helsinki:20200924T210000
DTSTAMP:20260425T050512
CREATED:20200909T074806Z
LAST-MODIFIED:20200918T130732Z
UID:3960-1600974000-1600981200@ljubljanapride.org
SUMMARY:Performans: QHologram 2070: Muzej raznolikosti
DESCRIPTION:Organizator: Društvo Parada ponosa \nJezik: angleški \n  \nDogodek se bo odvil 24. septembra v okviru Festivala Parada ponosa v Cirkulaciji 2 (Podhod Ajdovščina). Izveden bo v dveh ponovitvah ob 19.00 in 20.00.  \n  \n Zaradi omejitve zbiranja so zaželjene prijave na dogodek. Prijavite se lahko TUKAJ. \n  \nO Avraamu Vrohidisu: \nAvraam je ponosen kvir aktivist in performer iz Grčije. Študiral je socialno delo in trenutno dela z otroki s posebnimi potrebami. Je ustanovitelj grškega fat positive kolektiva\, imenovanega Fat Unicorns. \n  \nNjegova vsakodnevna dejavnost je\, da navdihuje ljudi\, da se naučijo zaupati svojemu telesu in ga imeti radi ter se svobodno izražati ne glede na vse. Njegova največja želja je opolnomočiti vse tiste kvir in debele najstnice_ke\, ki se soočajo z diskriminacijo in zatiranjem v družbi. Zato je Avraam ustvaril projekt QHologram 2070: Muzej raznolikosti\, s katerim ima namen potovati po vsej Evropi\, izobraževati in senzibilizirati najrazličnejše ljudi. \n  \nOpis projekta: \n  \nMuzej je postavljen v leto 2070\, v utopično prihodnost\, kjer diskriminacija in neenakost med različnimi družbenimi skupinami ne obstajata več. Muzej prikazuje\, kakšen je bil odnos družbe do manjšin v letu 2020. \n  \nGre za namišljeno vizijo sveta čez 50 let\, v katerem ni prostora za kakršnokoli diskriminacijo. V tem svetu muzej prikazuje\, kako so bile leta 2020 obravnavane ranljive družbene skupine – prikazuje homofobijo\, transfobijo\, rasizem\, seksizem\, diskriminacijo debelih oseb\, diskriminacijo na podlagi fizičnih lastnosti\, duševnega zdravja itd. \n  \nGostiteljica bo sprejela obiskovalke_ce in jih povabila v muzej. Obiskovalke_ci se bodo udeležile_i vodenega ogleda\, ki pripoveduje o položaju manjšinskih skupin v »davnem letu 2020«. \n  \nProstor bo razdeljen na več sob\, vsaka soba pa bo pripovedovala zgodbo o določeni temi\, povezani z diskriminacijo\, zatiranjem\, zlorabo ali nasiljem\, ki so jih doživele_i naše_i nastopajoče_i\, ker so\, kdor so. \n  \nNastopajo: \nFilip Vurnik\, Neja Kolbl\, Lan Aidan\, Tom Veber\, Petra HD. \n  \nČe želite postati del zgodbe in se pridružiti dogodku\, vas vljudno prosimo\, da izpolnite prijavnico TUKAJ. \n  \nAvraam Vrohidis (GR) v sodelovanju z Društvom Parada ponosa in Cirkulacijo 2. \n  \n——————————————— \n  \nPOMEMBNO! \n  \n\nImejte s seboj masko. Ves čas aktivnosti je obvezno vzdrževanje razdalje 1\,5 metra med udeleženkami_ci.\n\n  \n\n Pred vstopom in pri izstopu je razkuževanje rok OBVEZNO. V notranjih prostorih je obvezna uporaba maske.\n\n  \n\n V kolikor se oseba dogodku pridruži naknadno\, svoje podatke vpiše na pripravljen seznam\, ki bo na voljo na dogodku.\n\n  \nVsi podatki\, zbrani prek prijavnice ali seznama na dan dogodka\, se zbirajo za namen beleženja udeležbe na aktivnostih za potrebe projekta ter v skladu z Odlokom Vlade o spremembi Odloka o začasni splošni omejitvi oziroma prepovedi zbiranja ljudi v Republiki Sloveniji. Zbrani podatki bodo na zahtevo posredovani Nacionalnemu inštitutu za javno zdravje.  \n  \nDogodek sofinancira Mestna občina Ljubljana. \n______________________________________________________
URL:https://ljubljanapride.org/event/performans-qhologram-2070-muzej-raznolikosti/
LOCATION:Cirkulacija 2 (podhod Ajdovščina)
ATTACH;FMTTYPE=image/png:https://ljubljanapride.org/wp-content/uploads/2020/09/24.9.-q-hologram_fb-event-cover-Small.png
END:VEVENT
END:VCALENDAR