BEGIN:VCALENDAR
VERSION:2.0
PRODID:-//Društvo Parada Ponosa - ECPv6.15.17.1//NONSGML v1.0//EN
CALSCALE:GREGORIAN
METHOD:PUBLISH
X-WR-CALNAME:Društvo Parada Ponosa
X-ORIGINAL-URL:https://ljubljanapride.org
X-WR-CALDESC:Dogodki za Društvo Parada Ponosa
REFRESH-INTERVAL;VALUE=DURATION:PT1H
X-Robots-Tag:noindex
X-PUBLISHED-TTL:PT1H
BEGIN:VTIMEZONE
TZID:Europe/Ljubljana
BEGIN:DAYLIGHT
TZOFFSETFROM:+0100
TZOFFSETTO:+0200
TZNAME:CEST
DTSTART:20220327T010000
END:DAYLIGHT
BEGIN:STANDARD
TZOFFSETFROM:+0200
TZOFFSETTO:+0100
TZNAME:CET
DTSTART:20221030T010000
END:STANDARD
BEGIN:DAYLIGHT
TZOFFSETFROM:+0100
TZOFFSETTO:+0200
TZNAME:CEST
DTSTART:20230326T010000
END:DAYLIGHT
BEGIN:STANDARD
TZOFFSETFROM:+0200
TZOFFSETTO:+0100
TZNAME:CET
DTSTART:20231029T010000
END:STANDARD
BEGIN:DAYLIGHT
TZOFFSETFROM:+0100
TZOFFSETTO:+0200
TZNAME:CEST
DTSTART:20240331T010000
END:DAYLIGHT
BEGIN:STANDARD
TZOFFSETFROM:+0200
TZOFFSETTO:+0100
TZNAME:CET
DTSTART:20241027T010000
END:STANDARD
END:VTIMEZONE
BEGIN:VEVENT
DTSTART;TZID=Europe/Ljubljana:20230902T150000
DTEND;TZID=Europe/Ljubljana:20230902T210000
DTSTAMP:20260421T013248
CREATED:20230807T095912Z
LAST-MODIFIED:20230823T102151Z
UID:7953-1693666800-1693688400@ljubljanapride.org
SUMMARY:Piknik za prostovoljke_ce
DESCRIPTION:Draga_i prostovoljka_ec in podpornica_k Festivala Parada ponosa 2023! \nV soboto\, 2. septembra\, bomo na vrtu Kluba Tiffany skupaj proslavile_i uspešno izvedbo še enega festivala\, se svečano zahvalile_i vsem\, ki ste ga pomagale_i uresničiti in vam predstavile_i načrtovano paradno dogajanje ter priložnosti v hladnejših mesecih. \nZelo lepo te vabimo k udeležbi! Poskrbele_i bomo za zabavo\, pijačo in prigrizke. \nSe vidimo!
URL:https://ljubljanapride.org/event/piknik-za-prostovoljke_ce/
LOCATION:Klub Tiffany\, Masarykova 24\, 1000 Ljubljana
ATTACH;FMTTYPE=image/jpeg:https://ljubljanapride.org/wp-content/uploads/2023/08/Piknik_ig-scaled.jpg
END:VEVENT
END:VCALENDAR