BEGIN:VCALENDAR
VERSION:2.0
PRODID:-//Društvo Parada Ponosa - ECPv6.15.17.1//NONSGML v1.0//EN
CALSCALE:GREGORIAN
METHOD:PUBLISH
X-WR-CALNAME:Društvo Parada Ponosa
X-ORIGINAL-URL:https://ljubljanapride.org
X-WR-CALDESC:Dogodki za Društvo Parada Ponosa
REFRESH-INTERVAL;VALUE=DURATION:PT1H
X-Robots-Tag:noindex
X-PUBLISHED-TTL:PT1H
BEGIN:VTIMEZONE
TZID:Europe/Helsinki
BEGIN:DAYLIGHT
TZOFFSETFROM:+0200
TZOFFSETTO:+0300
TZNAME:EEST
DTSTART:20190331T010000
END:DAYLIGHT
BEGIN:STANDARD
TZOFFSETFROM:+0300
TZOFFSETTO:+0200
TZNAME:EET
DTSTART:20191027T010000
END:STANDARD
BEGIN:DAYLIGHT
TZOFFSETFROM:+0200
TZOFFSETTO:+0300
TZNAME:EEST
DTSTART:20200329T010000
END:DAYLIGHT
BEGIN:STANDARD
TZOFFSETFROM:+0300
TZOFFSETTO:+0200
TZNAME:EET
DTSTART:20201025T010000
END:STANDARD
BEGIN:DAYLIGHT
TZOFFSETFROM:+0200
TZOFFSETTO:+0300
TZNAME:EEST
DTSTART:20210328T010000
END:DAYLIGHT
BEGIN:STANDARD
TZOFFSETFROM:+0300
TZOFFSETTO:+0200
TZNAME:EET
DTSTART:20211031T010000
END:STANDARD
END:VTIMEZONE
BEGIN:VEVENT
DTSTART;TZID=Europe/Helsinki:20200114T190000
DTEND;TZID=Europe/Helsinki:20200114T210000
DTSTAMP:20260424T211940
CREATED:20200109T183810Z
LAST-MODIFIED:20200109T183810Z
UID:3180-1579028400-1579035600@ljubljanapride.org
SUMMARY:Politično
DESCRIPTION:Kaj zate pomeni politično? Kaj pomeni biti politična_en in kaj nepolitična_en? Smo lahko kot osebe\, ki pripadamo marginaliziranim skupinam sploh nepolitične_i? Kaj pomeni politična parada ponosa in zakaj je ljubljanska parada ponosa tako ponosno politična? Na tokratnem dogodku bomo najprej z diskusijo razčlenile_i to besedo na p in se pogovarjale_i o tem\, kaj nam pomeni\, nato pa skupaj ustvarile_i (ne)političen zine. Vsebinske prispevke za zine lahko tudi prinesete s seboj. Se vidimo! \nS ‘Parada povezuje’ si prizadevamo povezati lokalne LGBTIQ+ mlade\, aktivistke_e in vse\, ki jih zanima politična plat parad ponosa in boji za človekove pravice LGBTIQ+ oseb v Sloveniji in po svetu. \nZavedamo se\, da je to\, da se pojavimo kot LGBTIQ+ osebe na ulici\, samo po sebi politično dejanje. In vemo\, da to ni enostavno – zato želimo ustvarjati varen(varnejši) prostor za vse LGBTIQ+ osebe in prostor opolnomočenja.
URL:https://ljubljanapride.org/event/politicno/
ATTACH;FMTTYPE=image/jpeg:https://ljubljanapride.org/wp-content/uploads/2020/01/PCE-Politično-scaled.jpg
END:VEVENT
END:VCALENDAR