BEGIN:VCALENDAR
VERSION:2.0
PRODID:-//Društvo Parada Ponosa - ECPv6.15.17.1//NONSGML v1.0//EN
CALSCALE:GREGORIAN
METHOD:PUBLISH
X-WR-CALNAME:Društvo Parada Ponosa
X-ORIGINAL-URL:https://ljubljanapride.org
X-WR-CALDESC:Dogodki za Društvo Parada Ponosa
REFRESH-INTERVAL;VALUE=DURATION:PT1H
X-Robots-Tag:noindex
X-PUBLISHED-TTL:PT1H
BEGIN:VTIMEZONE
TZID:Europe/Helsinki
BEGIN:DAYLIGHT
TZOFFSETFROM:+0200
TZOFFSETTO:+0300
TZNAME:EEST
DTSTART:20190331T010000
END:DAYLIGHT
BEGIN:STANDARD
TZOFFSETFROM:+0300
TZOFFSETTO:+0200
TZNAME:EET
DTSTART:20191027T010000
END:STANDARD
BEGIN:DAYLIGHT
TZOFFSETFROM:+0200
TZOFFSETTO:+0300
TZNAME:EEST
DTSTART:20200329T010000
END:DAYLIGHT
BEGIN:STANDARD
TZOFFSETFROM:+0300
TZOFFSETTO:+0200
TZNAME:EET
DTSTART:20201025T010000
END:STANDARD
BEGIN:DAYLIGHT
TZOFFSETFROM:+0200
TZOFFSETTO:+0300
TZNAME:EEST
DTSTART:20210328T010000
END:DAYLIGHT
BEGIN:STANDARD
TZOFFSETFROM:+0300
TZOFFSETTO:+0200
TZNAME:EET
DTSTART:20211031T010000
END:STANDARD
END:VTIMEZONE
BEGIN:VEVENT
DTSTART;TZID=Europe/Helsinki:20200916T163000
DTEND;TZID=Europe/Helsinki:20200916T203000
DTSTAMP:20260425T181443
CREATED:20200831T061337Z
LAST-MODIFIED:20200908T120536Z
UID:3842-1600273800-1600288200@ljubljanapride.org
SUMMARY:Posvet: Napredek pravic LGBTI v političnem prostoru
DESCRIPTION:Organizator: DIC Legebitra v sodelovanju z Društvom Parada ponosa \nJezik: slovenski jezik (prva dva pogovora)\, angleški jezik (tretji pogovor) \nNa dogodek so zaradi ukrepov Vlade Republike Slovenije za omejitev širjenja koronavirusa obvezne prijave. Obrazec za prijavo najdete tukaj. \n  \nDruštvo Legebitra in Društvo Parada ponosa vabita na tri tematske pogovore\, na katerih bomo z gostjami_i govorile_i o napredku pravic LGBTI v Sloveniji.  \nDesetletja dela in prizadevanj aktivistk_ov in nevladnih organizacij so prinesla marsikatero spremembo na bolje\, ko pogledamo na enakost in enakopravnost lezbijk\, gejev\, biseksualnih in transspolnih oseb pri nas. Največji napredek je bil nedvomno narejen na področju istospolnih partnerstev\, kjer imamo dandanes Zakon o partnerski zvezi\, ki je izboljšal situacijo za istospolne pare. Navkljub pomembnosti in moči civilne družbe pa do sistemskih sprememb ne more priti\, če jim ni naklonjena tudi politika oziroma vsaj posameznice_ki znotraj političnih struktur.  \nProgram:  \n16:30–17:30 – LGBT-enakost v slovenskem političnem prostoru \nS sogovornicami_ki\, osebami\, ki so bile v zadnjih 30 letih pomembne_i zaveznice_ki v prizadevanjih za enakost\, se bomo ozrle_i na prehojeno pot in spregovorile_i o njihovem pogledu na nekatere izmed doseženih mejnikov pri izboljšanju pravic LGBTI.  \nOkrogla miza bo v slovenskem jeziku. \nImena sogovornic_kov bomo objavile_i naknadno. \n  \n17:45–18:45 – Prihodnji izzivi pri doseganju enakosti LGBTI-oseb \nPrizadevanja za enakost LGBTI-oseb še zdaleč niso končana. S sogovornicami_ki bomo govorile_i o izzivih\, s katerimi se soočamo\, in kakšne so poti\, da jih učinkovito naslovimo. \nOkrogla miza bo v slovenskem jeziku. \nImena sogovornic_kov bomo objavile_i naknadno. \n  \n19:00–20:00 – LGBTI equality – challenges abroad and on international stage \nNa okrogli mizi bomo z veleposlanicami_ki in/ali namestnicami_ki govorile_i o položaju in razvoju pravic LGBTI-oseb v njihovih državah in o možnostih naslavljanja tematik LGBTI na mednarodnem parketu.  \nOkrogla miza bo potekala v angleškem jeziku. \nImena sogovornic_kov bomo objavile_i naknadno. \n  \nPo koncu pogovorov bo potekala virtualna multimedijska razstava 20 let Parade ponosa v Ljubljani. \nNa dogodek so zaradi ukrepov Vlade Republike Slovenije za omejitev širjenja koronavirusa obvezne prijave. Obrazec za prijavo najdete tukaj. \nPri pripravah na dogodek sledimo vsem smernicam NIJZ za zagotavljanje varnosti.\n \nDogodek je del strokovnega posveta LGBTIQ+ pravice v Ljubljani\, ki ga organizira Društvo Parada ponosa ob praznovanju 20. obletnice Parade ponosa v Sloveniji. \nDogodek je sofinanciran s strani Mestne občine Ljubljana.\nDogodek se izvaja v sodelovanju z Vodnikovo domačijo Šiška. \n—– \nDelovanje ter programe in projekte Društva informacijski center Legebitra sofinancira: Fundacija financiranje invalidskih in humanitarnih organizacij v Republiki Sloveniji – FIHO. Stališča organizacije ne izražajo stališč FIHO.
URL:https://ljubljanapride.org/event/posvet-napredek-pravic-lgbti-v-politicnem-prostoru/
LOCATION:Vodnikova domačija Šiška\, Vodnikova cesta 65\, Ljubljana
ATTACH;FMTTYPE=image/png:https://ljubljanapride.org/wp-content/uploads/2020/08/Posvet_fb-event-cover-Small.png
END:VEVENT
END:VCALENDAR