BEGIN:VCALENDAR
VERSION:2.0
PRODID:-//Društvo Parada Ponosa - ECPv6.15.17.1//NONSGML v1.0//EN
CALSCALE:GREGORIAN
METHOD:PUBLISH
X-WR-CALNAME:Društvo Parada Ponosa
X-ORIGINAL-URL:https://ljubljanapride.org
X-WR-CALDESC:Dogodki za Društvo Parada Ponosa
REFRESH-INTERVAL;VALUE=DURATION:PT1H
X-Robots-Tag:noindex
X-PUBLISHED-TTL:PT1H
BEGIN:VTIMEZONE
TZID:Europe/Helsinki
BEGIN:DAYLIGHT
TZOFFSETFROM:+0200
TZOFFSETTO:+0300
TZNAME:EEST
DTSTART:20190331T010000
END:DAYLIGHT
BEGIN:STANDARD
TZOFFSETFROM:+0300
TZOFFSETTO:+0200
TZNAME:EET
DTSTART:20191027T010000
END:STANDARD
BEGIN:DAYLIGHT
TZOFFSETFROM:+0200
TZOFFSETTO:+0300
TZNAME:EEST
DTSTART:20200329T010000
END:DAYLIGHT
BEGIN:STANDARD
TZOFFSETFROM:+0300
TZOFFSETTO:+0200
TZNAME:EET
DTSTART:20201025T010000
END:STANDARD
BEGIN:DAYLIGHT
TZOFFSETFROM:+0200
TZOFFSETTO:+0300
TZNAME:EEST
DTSTART:20210328T010000
END:DAYLIGHT
BEGIN:STANDARD
TZOFFSETFROM:+0300
TZOFFSETTO:+0200
TZNAME:EET
DTSTART:20211031T010000
END:STANDARD
END:VTIMEZONE
BEGIN:VEVENT
DTSTART;TZID=Europe/Helsinki:20200522T180000
DTEND;TZID=Europe/Helsinki:20200620T180000
DTSTAMP:20260425T021806
CREATED:20200309T185113Z
LAST-MODIFIED:20200309T190414Z
UID:3454-1590170400-1592676000@ljubljanapride.org
SUMMARY:Poziv za slovenske in mednarodne prostovoljke_ce
DESCRIPTION:Iščemo prostovoljke_ce!\nRazpis – Evropska solidarnostna enota\nTrajanje: 22. maj – 20. junij 2020 \nLokacija: Ljubljana\, Slovenija \nNamenjeno: LGBTIQ+ osebam (18–30 let\, prebivalkam_cem EU) z velikim zanimanjem za LGBTIQ+ organizacije\, teme in politiko. \nOpis: Prostovoljke_ci bodo vključene_i v program Festivala Parada ponosa\, ki ga organizira Društvo Parada ponosa v Ljubljani. Istočasno bodo vključene_i tudi v vodstveno ekipo\, tako da bodo lahko iz prve roke doživele_i in sodelovale_i pri organizaciji tako festivala kakor tudi samega paradnega dne. \nSi družabna_en\, tekoče govoriš angleško\, uživaš v ekipnem delu  in se ne bojiš stopiti iz svoje cone udobja? Potem se nam pridruži. \nTipične naloge prostovoljke_ca vključujejo: \n\nTehnična in logistična podpora med in po vsakem dogodku\nAdministrativna podpora in komunikacija s partnerji\nKomunikacija na družabnih omrežij\nPromocija festivalskih dogodkov in pomoč pri zbiranju sredstev\nIzdelava promocijskih materialov\nIzdelovanje transparentov in podpora pri vizualni postavitvi Parade ponosa\nFoto in video snemanje\n\nProstovoljke_ci bodo pridobile_i kompetence s področja: \n\nSkupinskega dela\nDela v medkulturnem okolju\nKomunikacijske\, tehnične in logistične kompetence\nSpoznavanja upravljanja projektov (npr. Kako organizirati manjše enodnevne dogodke kot so razstave\, delavnice in zabave)\n\nProjekt vključuje: \n\nKritje potnih stroškov in nastanitve\nKritje stroškov hrane in žepnine\nMentorstvo in potrdilo Youthpass\n\nKako se prijaviš?\nPošlji nam svoj življenjepis in motivacijsko pismo (v angleščini) na evs@ljubljanapride.org\nRok prijave do 15. aprila 2020\n 
URL:https://ljubljanapride.org/event/poziv-za-prostovoljke_ce-vkljuci-se-v-program-ese-2020/
LOCATION:Društvo Parada ponosa\, Dunajska cesta 10\, Ljubljana
ATTACH;FMTTYPE=image/jpeg:https://ljubljanapride.org/wp-content/uploads/2020/03/ESE-poziv.jpg
ORGANIZER;CN="Dru%C5%A1tvo Parada ponosa":MAILTO:info@ljubljanapride.org
END:VEVENT
END:VCALENDAR