BEGIN:VCALENDAR
VERSION:2.0
PRODID:-//Društvo Parada Ponosa - ECPv6.15.17.1//NONSGML v1.0//EN
CALSCALE:GREGORIAN
METHOD:PUBLISH
X-WR-CALNAME:Društvo Parada Ponosa
X-ORIGINAL-URL:https://ljubljanapride.org
X-WR-CALDESC:Dogodki za Društvo Parada Ponosa
REFRESH-INTERVAL;VALUE=DURATION:PT1H
X-Robots-Tag:noindex
X-PUBLISHED-TTL:PT1H
BEGIN:VTIMEZONE
TZID:Europe/Helsinki
BEGIN:DAYLIGHT
TZOFFSETFROM:+0200
TZOFFSETTO:+0300
TZNAME:EEST
DTSTART:20190331T010000
END:DAYLIGHT
BEGIN:STANDARD
TZOFFSETFROM:+0300
TZOFFSETTO:+0200
TZNAME:EET
DTSTART:20191027T010000
END:STANDARD
BEGIN:DAYLIGHT
TZOFFSETFROM:+0200
TZOFFSETTO:+0300
TZNAME:EEST
DTSTART:20200329T010000
END:DAYLIGHT
BEGIN:STANDARD
TZOFFSETFROM:+0300
TZOFFSETTO:+0200
TZNAME:EET
DTSTART:20201025T010000
END:STANDARD
BEGIN:DAYLIGHT
TZOFFSETFROM:+0200
TZOFFSETTO:+0300
TZNAME:EEST
DTSTART:20210328T010000
END:DAYLIGHT
BEGIN:STANDARD
TZOFFSETFROM:+0300
TZOFFSETTO:+0200
TZNAME:EET
DTSTART:20211031T010000
END:STANDARD
END:VTIMEZONE
BEGIN:VEVENT
DTSTART;TZID=Europe/Helsinki:20200128T190000
DTEND;TZID=Europe/Helsinki:20200128T210000
DTSTAMP:20260424T144550
CREATED:20200124T012819Z
LAST-MODIFIED:20200124T012819Z
UID:3224-1580238000-1580245200@ljubljanapride.org
SUMMARY:Predaja štafete: od ene ESE-jevke drugi
DESCRIPTION:Parada povezuje se predaja novim ESE prostovoljkam_cem ! Ob tej predaji / evalvaciji / dogovoru o naslednjih korakih bo Marta Torres delila svoje potovanje in ugotovitve iz preteklega leta dogodkov Parada povezuje. Nato bosta Katja Štefanec in Rob Noon predstavili_a vizijo za letošnje leto. In končno bomo udeležence povabile_i\, da delijo svoje povratne informacije\, izkušnje in predloge glede dogodkov Parada povezuje.\n\nVeselimo se\, da bomo lahko slišale_i vaše vtise in mnenja ter sodelovale_i z vami\, saj je glavni cilj dogodkov Parada povezuje\, da povežemo mlade\, ki se želijo aktivirati ter jim ponudimo prostor in orodja za to. Če se dogodka ne boste udeležile_i\, a vseeno želite deliti svoje mnenje\, nam ga pošljite na katja@ljubljanapride.org\, Zadeva: “PIdeje za Parada povezuje”. Prav tako ste zelo dobrodošlie_\, da se pridružite samo poslušanju\, česvojih mnenje morda ne želite deliti\, vas pa zanima vsebina.\n\nS ‘Parada povezuje’ si prizadevamo povezati lokalne LGBTIQ+ mlade\, aktivistke_e in vse\, ki jih zanima politična plat parad ponosa in boji za človekove pravice LGBTIQ+ oseb v Sloveniji in po svetu. \nZavedamo se\, da je to\, da se pojavimo kot LGBTIQ+ osebe na ulici\, samo po sebi politično dejanje. In vemo\, da to ni enostavno – zato želimo ustvarjati varen(varnejši) prostor za vse LGBTIQ+ osebe in prostor opolnomočenja.
URL:https://ljubljanapride.org/event/predaja-stafete-od-ene-ese-jevke-drugi/
ATTACH;FMTTYPE=image/jpeg:https://ljubljanapride.org/wp-content/uploads/2020/01/PCE-Predaja-štafete-scaled.jpg
END:VEVENT
END:VCALENDAR