BEGIN:VCALENDAR
VERSION:2.0
PRODID:-//Društvo Parada Ponosa - ECPv6.15.17.1//NONSGML v1.0//EN
CALSCALE:GREGORIAN
METHOD:PUBLISH
X-WR-CALNAME:Društvo Parada Ponosa
X-ORIGINAL-URL:https://ljubljanapride.org
X-WR-CALDESC:Dogodki za Društvo Parada Ponosa
REFRESH-INTERVAL;VALUE=DURATION:PT1H
X-Robots-Tag:noindex
X-PUBLISHED-TTL:PT1H
BEGIN:VTIMEZONE
TZID:Europe/Ljubljana
BEGIN:DAYLIGHT
TZOFFSETFROM:+0100
TZOFFSETTO:+0200
TZNAME:CEST
DTSTART:20210328T010000
END:DAYLIGHT
BEGIN:STANDARD
TZOFFSETFROM:+0200
TZOFFSETTO:+0100
TZNAME:CET
DTSTART:20211031T010000
END:STANDARD
BEGIN:DAYLIGHT
TZOFFSETFROM:+0100
TZOFFSETTO:+0200
TZNAME:CEST
DTSTART:20220327T010000
END:DAYLIGHT
BEGIN:STANDARD
TZOFFSETFROM:+0200
TZOFFSETTO:+0100
TZNAME:CET
DTSTART:20221030T010000
END:STANDARD
BEGIN:DAYLIGHT
TZOFFSETFROM:+0100
TZOFFSETTO:+0200
TZNAME:CEST
DTSTART:20230326T010000
END:DAYLIGHT
BEGIN:STANDARD
TZOFFSETFROM:+0200
TZOFFSETTO:+0100
TZNAME:CET
DTSTART:20231029T010000
END:STANDARD
END:VTIMEZONE
BEGIN:VEVENT
DTSTART;TZID=Europe/Ljubljana:20221025T180000
DTEND;TZID=Europe/Ljubljana:20221108T210000
DTSTAMP:20260421T190301
CREATED:20221025T124546Z
LAST-MODIFIED:20221025T124952Z
UID:7041-1666720800-1667941200@ljubljanapride.org
SUMMARY:Pride Connects: Digital storytelling workshop
DESCRIPTION:Datuma: 25. 10 (1. del) in 8. 11. (2. del)\nUra: 18:00 – 21:00\nTrajanje: 3 ure\nKje: Pisarna Društva Parade ponosa \nTe zanima pripovedovalstvo? Si želiš deliti unikatno zgodbo? Se želiš naučiti\, kako transformirati zgodbo v video?\nDelavnica digitalnega pripovedovalstva bo potekala v dveh delih: prvi del bo potekal v torek\, 25. 10\, nadaljevanje pa bo sledilo v torek\, 8. 11.\nPridruži se nam na delavnicah\, kjer bomo spoznale_i\, osnove digitalnega pripovedovalstva\, kako predstaviti svojo zgodbo in kako se izraziti s pomočjo digitalnih orodij.\n\nPrijavnica:\nhttps://forms.gle/ZjBBsq2B55CkVBoB7\n\nDelavnica je del projekta RALYO.*\n___\nEN\n\n\nDates: 25th of October (part 1) and 8th of November (part 2)\nWhen: 18:00 – 21:00\nDuration of the workship: 3 ure\nWhere: Office of Ljubljana Pride Association\n\nInterested in storytelling? Do you want to share a unique story?\nDo you want to learn how to transform a story into a video?\nThe digital storytelling workshop will be held in two parts: the first part will take place on Tuesday 25 October\, followed by the second part on Tuesday 8 November.\nJoin us for a workshop where we will learn the basics of digital storytelling\, how to present your story and how to express yourself through digital tools.\n\nApplication form:\nhttps://forms.gle/ZjBBsq2B55CkVBoB7\n\n\n___\n\nWorkshop is part of the RALYO project.*\n\n*RALYO (Rainbow Audio-visual literacy for Youth Organisations) is Erasmus+ strategic partnership project which aims at the development of critical audio-visual literacy\, awareness and digital storytelling practices in the field of youth and exploring positive impact it might have as a method of working with queer youth. Our goal is not only to foster LGBT+ youth’s self-development but also to facilitate creation of local and transnational young rainbow communities as well as raise public awareness about the situation of queer youth through sharing their personal stories.
URL:https://ljubljanapride.org/event/pride-connects-digital-storytelling-workshop/
LOCATION:Društvo Parada ponosa\, Dunajska cesta 10
CATEGORIES:Parada Ponosa
ATTACH;FMTTYPE=image/png:https://ljubljanapride.org/wp-content/uploads/2022/10/PCE-Digital-Storytelling-Workshop1_ig.png
ORGANIZER;CN="Dru%C5%A1tvo Parada Ponosa":MAILTO:info@ljubljanapride.org
END:VEVENT
END:VCALENDAR