BEGIN:VCALENDAR
VERSION:2.0
PRODID:-//Društvo Parada Ponosa - ECPv6.15.17.1//NONSGML v1.0//EN
CALSCALE:GREGORIAN
METHOD:PUBLISH
X-WR-CALNAME:Društvo Parada Ponosa
X-ORIGINAL-URL:https://ljubljanapride.org
X-WR-CALDESC:Dogodki za Društvo Parada Ponosa
REFRESH-INTERVAL;VALUE=DURATION:PT1H
X-Robots-Tag:noindex
X-PUBLISHED-TTL:PT1H
BEGIN:VTIMEZONE
TZID:Europe/Ljubljana
BEGIN:DAYLIGHT
TZOFFSETFROM:+0100
TZOFFSETTO:+0200
TZNAME:CEST
DTSTART:20220327T010000
END:DAYLIGHT
BEGIN:STANDARD
TZOFFSETFROM:+0200
TZOFFSETTO:+0100
TZNAME:CET
DTSTART:20221030T010000
END:STANDARD
BEGIN:DAYLIGHT
TZOFFSETFROM:+0100
TZOFFSETTO:+0200
TZNAME:CEST
DTSTART:20230326T010000
END:DAYLIGHT
BEGIN:STANDARD
TZOFFSETFROM:+0200
TZOFFSETTO:+0100
TZNAME:CET
DTSTART:20231029T010000
END:STANDARD
BEGIN:DAYLIGHT
TZOFFSETFROM:+0100
TZOFFSETTO:+0200
TZNAME:CEST
DTSTART:20240331T010000
END:DAYLIGHT
BEGIN:STANDARD
TZOFFSETFROM:+0200
TZOFFSETTO:+0100
TZNAME:CET
DTSTART:20241027T010000
END:STANDARD
END:VTIMEZONE
BEGIN:VEVENT
DTSTART;TZID=Europe/Ljubljana:20231107T170000
DTEND;TZID=Europe/Ljubljana:20231107T190000
DTSTAMP:20260420T201437
CREATED:20231106T080021Z
LAST-MODIFIED:20231106T080330Z
UID:8356-1699376400-1699383600@ljubljanapride.org
SUMMARY:Pride Connects: Queer-EUtopia
DESCRIPTION:Vabljene_i na naslednjo aktivnost Pride Connects\, Queer-EUtopia\, kjer bomo nadaljevali temo in pristop prejšnje aktivnosti: predstavljajte si\, kako bi izgledala utopična družba\, obarvana v barvah LGBTIQ+ oseb. \nVendar pa bodo ideje\, o katerih bomo razpravljale_i\, povsem nove\, zato se ne bojte priti prvič! \nAktivnost je vključena v program ‘Parada povezuje’\, naš glavni cilj pa je spodbujati povezave med lokalno LGBTIQ+ mladino\, aktivistkami_i in posameznicami_ki\, ki se navdušujejo nad političnimi vidiki Parade ponosa in bojem za človekove pravice LGBTIQ+ v Sloveniji in po svetu\, ter vzpostaviti varnejši prostor za vse pripadnice_ke LGBTIQ+ skupnosti\, ki bo nudil platformo za opolnomočenje in podporo. \nPri projektu ‘Queer-EUtopia’ se bomo bolj osredotočile_i na Evropsko unijo. Dejavnost bo obsegala izdelavo kolaža o Evropski uniji\, v kateri je bila zaradi politične udejstvovanja državljank_ov do leta 2050 dosežena utopična družba obarvana mavrično. Z razmišljanjem o tej temi bomo na neformalen način poudarile_i pomen volitev v Evropski parlament leta 2024 in političnega sodelovanja državljank_ov v boju za pravice LGBTIQ+ oseb. \nAktivnost sofinancirata Evropska unija in Urad Republike Slovenije za mladino.
URL:https://ljubljanapride.org/event/pride-connects-queer-eutopia/
LOCATION:MC Mladi zmaji Golovec\, Pesarska cesta 14\, Ljubljana
ATTACH;FMTTYPE=image/png:https://ljubljanapride.org/wp-content/uploads/2023/11/PCE-QueertEUtopia_ig.png
END:VEVENT
END:VCALENDAR