BEGIN:VCALENDAR
VERSION:2.0
PRODID:-//Društvo Parada Ponosa - ECPv6.15.17.1//NONSGML v1.0//EN
CALSCALE:GREGORIAN
METHOD:PUBLISH
X-WR-CALNAME:Društvo Parada Ponosa
X-ORIGINAL-URL:https://ljubljanapride.org
X-WR-CALDESC:Dogodki za Društvo Parada Ponosa
REFRESH-INTERVAL;VALUE=DURATION:PT1H
X-Robots-Tag:noindex
X-PUBLISHED-TTL:PT1H
BEGIN:VTIMEZONE
TZID:Europe/Ljubljana
BEGIN:DAYLIGHT
TZOFFSETFROM:+0100
TZOFFSETTO:+0200
TZNAME:CEST
DTSTART:20220327T010000
END:DAYLIGHT
BEGIN:STANDARD
TZOFFSETFROM:+0200
TZOFFSETTO:+0100
TZNAME:CET
DTSTART:20221030T010000
END:STANDARD
BEGIN:DAYLIGHT
TZOFFSETFROM:+0100
TZOFFSETTO:+0200
TZNAME:CEST
DTSTART:20230326T010000
END:DAYLIGHT
BEGIN:STANDARD
TZOFFSETFROM:+0200
TZOFFSETTO:+0100
TZNAME:CET
DTSTART:20231029T010000
END:STANDARD
BEGIN:DAYLIGHT
TZOFFSETFROM:+0100
TZOFFSETTO:+0200
TZNAME:CEST
DTSTART:20240331T010000
END:DAYLIGHT
BEGIN:STANDARD
TZOFFSETFROM:+0200
TZOFFSETTO:+0100
TZNAME:CET
DTSTART:20241027T010000
END:STANDARD
END:VTIMEZONE
BEGIN:VEVENT
DTSTART;TZID=Europe/Ljubljana:20230131T180000
DTEND;TZID=Europe/Ljubljana:20230131T200000
DTSTAMP:20260421T221329
CREATED:20230116T103414Z
LAST-MODIFIED:20230116T103414Z
UID:7174-1675188000-1675195200@ljubljanapride.org
SUMMARY:Pride connects: Sustainable practices around the world pt. 2
DESCRIPTION:Želiš izvedeti več o trajnostnih praksah po svetu in kako so povezane s tvojo lokalno skupnostjo? \nPridruži se nam v torek\, 31. januarja\, na Dunajski cesti 10 od 18:00 do 20:00! Skupaj si bomo ogledali navdihujoč dokumentarni film in izvedeli več o tem\, kako so videti različne trajnostne prakse po svetu. Nato bomo razpravljali o tem\, kako ustrezajo potrebam tvojih lokalnih skupnosti in kako bi jih lahko v praksi izvajali. \nZakaj?\nŽelimo zbrati podatke\, ki bodo služili kot podlaga za razprave z odločevalkami_ci\, ki jih bomo organizirale_i še letos\, ker je treba slišati glasove mladih LGBTIQ+ oseb. \nZato skupaj povzdignimo glas in zahtevajmo boljšo in bolj zeleno prihodnost! \nSe vidimo! \nProjekt je finančno podprt v okviru programa EU Erasmus+.
URL:https://ljubljanapride.org/event/pride-connects-sustainable-practices-around-the-world-pt-2/
LOCATION:Društvo Parada ponosa\, Dunajska cesta 10
ATTACH;FMTTYPE=image/png:https://ljubljanapride.org/wp-content/uploads/2023/01/PCE_january_ig02.png
END:VEVENT
END:VCALENDAR