BEGIN:VCALENDAR
VERSION:2.0
PRODID:-//Društvo Parada Ponosa - ECPv6.15.17.1//NONSGML v1.0//EN
CALSCALE:GREGORIAN
METHOD:PUBLISH
X-WR-CALNAME:Društvo Parada Ponosa
X-ORIGINAL-URL:https://ljubljanapride.org
X-WR-CALDESC:Dogodki za Društvo Parada Ponosa
REFRESH-INTERVAL;VALUE=DURATION:PT1H
X-Robots-Tag:noindex
X-PUBLISHED-TTL:PT1H
BEGIN:VTIMEZONE
TZID:Europe/Helsinki
BEGIN:DAYLIGHT
TZOFFSETFROM:+0200
TZOFFSETTO:+0300
TZNAME:EEST
DTSTART:20200329T010000
END:DAYLIGHT
BEGIN:STANDARD
TZOFFSETFROM:+0300
TZOFFSETTO:+0200
TZNAME:EET
DTSTART:20201025T010000
END:STANDARD
BEGIN:DAYLIGHT
TZOFFSETFROM:+0200
TZOFFSETTO:+0300
TZNAME:EEST
DTSTART:20210328T010000
END:DAYLIGHT
BEGIN:STANDARD
TZOFFSETFROM:+0300
TZOFFSETTO:+0200
TZNAME:EET
DTSTART:20211031T010000
END:STANDARD
BEGIN:DAYLIGHT
TZOFFSETFROM:+0200
TZOFFSETTO:+0300
TZNAME:EEST
DTSTART:20220327T010000
END:DAYLIGHT
BEGIN:STANDARD
TZOFFSETFROM:+0300
TZOFFSETTO:+0200
TZNAME:EET
DTSTART:20221030T010000
END:STANDARD
END:VTIMEZONE
BEGIN:VEVENT
DTSTART;TZID=Europe/Helsinki:20210209T180000
DTEND;TZID=Europe/Helsinki:20210209T200000
DTSTAMP:20260424T022522
CREATED:20210209T122631Z
LAST-MODIFIED:20210209T122631Z
UID:4628-1612893600-1612900800@ljubljanapride.org
SUMMARY:PRIDE CONNECTS: Transformative Justice Discussion Group
DESCRIPTION:Parada povezuje 9. februarja med 18.00 in 20.00 organizira pogovorno skupino na temo transformativne pravičnosti.\n\nZa prijavo pošljite e-mail na naslov  asja@ljubljanapride.org.\n\nPrejšnjič na Parada povezuje…\n\nNa zadnjem dogodku (bralna in pogovorna skupina Zakaj s(m)o kvir osebe tako zlobne druga do druge?) smo se pogovarjale_i o različnih možnih korakih do izboljšanja načinov\, kako se v naših skupnostih spoprijemamo z nestrinjanji\, nesporazumi in konflikti. Na prihajajoči pogovorni skupini želimo ustvariti prostor za nadaljevanje naših pogovorov v smeri iskanja konkretnih orodij\, ki so lahko v pomoč pri grajenju močnih in trdoživih skupnosti in gibanj.\n\nPogledale_i si bomo nekaj tekstov in videov ključnih oseb\, ki se s transformativno pravičnostjo ukvarjajo v teoriji in praksi. Skupaj bomo razmišljale_i o možnostih za implementacijo elementov njihovega dela v našem (lokalnem) kontekstu. V teh dveh urah ne bomo rešile_i vseh problemov kvirovskih in aktivističnih skupnosti – upamo pa\, da nam bo pogovor služil kot uvod v nekatere koncepte in orodja transformativne pravičnosti\, ki jih lahko vključimo v svoje aktivistično in vsakdanje življenje.\n\nPridružite se nam lahko tudi\, če se prejšnjega dogodka niste udeležile_i!\n\nDogodek bo potekal v angleščini.\n____________________________________\nParada povezuje stremi k povezovanju lokalnih LGBTIQA+ mladih\, aktivistk_tov in vseh\, ki jih zanima politična plat parad ponosa in boj za človekove pravice LGBTIQA+ oseb v Sloveniji in po svetu.\n\nZavedamo se\, da je biti razkrita LGBTIQA+ oseba v javnem prostoru politično dejanje\, kar ni vedno preprosto – želimo ustvariti varnejši prostor za vse LGBTIQA+ osebe\, ter prostor kjer se vse osebe iz skupnosti počutimo opolnomočene_i.
URL:https://ljubljanapride.org/event/pride-connects-transformative-justice-discussion-group/
LOCATION:Zoom
ATTACH;FMTTYPE=image/jpeg:https://ljubljanapride.org/wp-content/uploads/2021/02/PCE-Transformative-Justice_fb-scaled.jpg
END:VEVENT
END:VCALENDAR