BEGIN:VCALENDAR
VERSION:2.0
PRODID:-//Društvo Parada Ponosa - ECPv6.15.17.1//NONSGML v1.0//EN
CALSCALE:GREGORIAN
METHOD:PUBLISH
X-WR-CALNAME:Društvo Parada Ponosa
X-ORIGINAL-URL:https://ljubljanapride.org
X-WR-CALDESC:Dogodki za Društvo Parada Ponosa
REFRESH-INTERVAL;VALUE=DURATION:PT1H
X-Robots-Tag:noindex
X-PUBLISHED-TTL:PT1H
BEGIN:VTIMEZONE
TZID:Europe/Helsinki
BEGIN:DAYLIGHT
TZOFFSETFROM:+0200
TZOFFSETTO:+0300
TZNAME:EEST
DTSTART:20200329T010000
END:DAYLIGHT
BEGIN:STANDARD
TZOFFSETFROM:+0300
TZOFFSETTO:+0200
TZNAME:EET
DTSTART:20201025T010000
END:STANDARD
BEGIN:DAYLIGHT
TZOFFSETFROM:+0200
TZOFFSETTO:+0300
TZNAME:EEST
DTSTART:20210328T010000
END:DAYLIGHT
BEGIN:STANDARD
TZOFFSETFROM:+0300
TZOFFSETTO:+0200
TZNAME:EET
DTSTART:20211031T010000
END:STANDARD
BEGIN:DAYLIGHT
TZOFFSETFROM:+0200
TZOFFSETTO:+0300
TZNAME:EEST
DTSTART:20220327T010000
END:DAYLIGHT
BEGIN:STANDARD
TZOFFSETFROM:+0300
TZOFFSETTO:+0200
TZNAME:EET
DTSTART:20221030T010000
END:STANDARD
END:VTIMEZONE
BEGIN:VEVENT
DTSTART;TZID=Europe/Helsinki:20210420T180000
DTEND;TZID=Europe/Helsinki:20210420T180000
DTSTAMP:20260424T084946
CREATED:20210413T085225Z
LAST-MODIFIED:20210413T124825Z
UID:4789-1618941600-1618941600@ljubljanapride.org
SUMMARY:Pride Connects: Trash
DESCRIPTION:CO-HOST: Loesje Berlin\n\n\nV spomin na letošnji dan Zemlje Parada Povezuje organizira video večer\, na katerem bomo delile_i nasvete in prakse za upcycling in recikliranje ob razpravljanju\, kako je okoljevarstveno gibanje povezano z LGBTIQ+ aktivizmom in drugimi gibanji\, ki se borijo za pravice ljudi in živali.\n\nSpoznale_i bomo\, kako vzeti smeti in iz njih narediti nekaj novega\, uporabnega in lepega ter si ogledale_i primere\, kako staro oblačilo ali pohištvo predelati in ustvariti umetnost iz stvari\, ki bi bile sicer zavržene!\n\nDruštvo Parada ponosa in Loesje Berlin organizirata dogodek v okviru mladinskega projekta DekontRaminacija z namenom ozaveščanja o pomembnih obeležjih in aktiviranja mladih aktivistov.
URL:https://ljubljanapride.org/event/pride-connects-trash/
LOCATION:preko spleta
ATTACH;FMTTYPE=image/png:https://ljubljanapride.org/wp-content/uploads/2021/04/PCE-Earth-day_Trash-fb-1.png
END:VEVENT
END:VCALENDAR