BEGIN:VCALENDAR
VERSION:2.0
PRODID:-//Društvo Parada Ponosa - ECPv6.15.17.1//NONSGML v1.0//EN
CALSCALE:GREGORIAN
METHOD:PUBLISH
X-WR-CALNAME:Društvo Parada Ponosa
X-ORIGINAL-URL:https://ljubljanapride.org
X-WR-CALDESC:Dogodki za Društvo Parada Ponosa
REFRESH-INTERVAL;VALUE=DURATION:PT1H
X-Robots-Tag:noindex
X-PUBLISHED-TTL:PT1H
BEGIN:VTIMEZONE
TZID:Europe/Ljubljana
BEGIN:DAYLIGHT
TZOFFSETFROM:+0100
TZOFFSETTO:+0200
TZNAME:CEST
DTSTART:20220327T010000
END:DAYLIGHT
BEGIN:STANDARD
TZOFFSETFROM:+0200
TZOFFSETTO:+0100
TZNAME:CET
DTSTART:20221030T010000
END:STANDARD
BEGIN:DAYLIGHT
TZOFFSETFROM:+0100
TZOFFSETTO:+0200
TZNAME:CEST
DTSTART:20230326T010000
END:DAYLIGHT
BEGIN:STANDARD
TZOFFSETFROM:+0200
TZOFFSETTO:+0100
TZNAME:CET
DTSTART:20231029T010000
END:STANDARD
BEGIN:DAYLIGHT
TZOFFSETFROM:+0100
TZOFFSETTO:+0200
TZNAME:CEST
DTSTART:20240331T010000
END:DAYLIGHT
BEGIN:STANDARD
TZOFFSETFROM:+0200
TZOFFSETTO:+0100
TZNAME:CET
DTSTART:20241027T010000
END:STANDARD
END:VTIMEZONE
BEGIN:VEVENT
DTSTART;TZID=Europe/Ljubljana:20230522T180000
DTEND;TZID=Europe/Ljubljana:20230522T200000
DTSTAMP:20260421T013406
CREATED:20230522T103937Z
LAST-MODIFIED:20230522T104116Z
UID:7785-1684778400-1684785600@ljubljanapride.org
SUMMARY:Pride Connects: Upcycling Pride flower pots!
DESCRIPTION:Ste se kdaj spraševale_i\, kaj lahko storite s praznimi pločevinkami namesto\, da jih zavržete?\nNa delavnici bomo okraševale_i prazne pločevinke! Spremenile_i jih bomo v lepe cvetlične lončke ali držala za svinčnike ter še kaj podobno ustvarjalnega. Z recikliranjem tovrstnih materialov zmanjšujemo odpadke in jih spreminjamo v lepe in funkcionalne predmete!\n\nUstvarile_i bomo nekaj lepega za svoj dom ali pisarno! Lahko pa nam pomagajte ustvariti še več izdelkov\, kot del trajnostne ponudbe za festival Parada ponosa 2023. Poleg tega\, da se boste naučile_i novih veščin\, boste pripomogle_i tudi k zmanjševanju odpadkov in spodbujanju trajnostnega razvoja.\nPridružite se nam v ponedeljek\, 22. maja\, od 18:00 do 20:00 na Dunajski cesti 10 na zabavni in okolju prijazni delavnici.\n\nKomaj čakamo\, da se vidimo!\n\n\nAktivnost poteka v sklopu projekta Trajnostni aktivizem\, ki ga financira Evropska unija.\nIzvajanje aktivnosti sofinancira tudi URSM.
URL:https://ljubljanapride.org/event/pride-connects-upcycling-pride-flower-pots/
LOCATION:Društvo Parada ponosa\, Dunajska cesta 10
ATTACH;FMTTYPE=image/png:https://ljubljanapride.org/wp-content/uploads/2023/05/Pride-connects_Flower-pots_IG.png
END:VEVENT
END:VCALENDAR