BEGIN:VCALENDAR
VERSION:2.0
PRODID:-//Društvo Parada Ponosa - ECPv6.15.17.1//NONSGML v1.0//EN
CALSCALE:GREGORIAN
METHOD:PUBLISH
X-WR-CALNAME:Društvo Parada Ponosa
X-ORIGINAL-URL:https://ljubljanapride.org
X-WR-CALDESC:Dogodki za Društvo Parada Ponosa
REFRESH-INTERVAL;VALUE=DURATION:PT1H
X-Robots-Tag:noindex
X-PUBLISHED-TTL:PT1H
BEGIN:VTIMEZONE
TZID:Europe/Ljubljana
BEGIN:DAYLIGHT
TZOFFSETFROM:+0100
TZOFFSETTO:+0200
TZNAME:CEST
DTSTART:20200329T010000
END:DAYLIGHT
BEGIN:STANDARD
TZOFFSETFROM:+0200
TZOFFSETTO:+0100
TZNAME:CET
DTSTART:20201025T010000
END:STANDARD
BEGIN:DAYLIGHT
TZOFFSETFROM:+0100
TZOFFSETTO:+0200
TZNAME:CEST
DTSTART:20210328T010000
END:DAYLIGHT
BEGIN:STANDARD
TZOFFSETFROM:+0200
TZOFFSETTO:+0100
TZNAME:CET
DTSTART:20211031T010000
END:STANDARD
BEGIN:DAYLIGHT
TZOFFSETFROM:+0100
TZOFFSETTO:+0200
TZNAME:CEST
DTSTART:20220327T010000
END:DAYLIGHT
BEGIN:STANDARD
TZOFFSETFROM:+0200
TZOFFSETTO:+0100
TZNAME:CET
DTSTART:20221030T010000
END:STANDARD
END:VTIMEZONE
BEGIN:VEVENT
DTSTART;TZID=Europe/Ljubljana:20210923T180000
DTEND;TZID=Europe/Ljubljana:20210923T200000
DTSTAMP:20260424T184740
CREATED:20210922T111215Z
LAST-MODIFIED:20210922T111215Z
UID:5161-1632420000-1632427200@ljubljanapride.org
SUMMARY:Pride Connects: Volunteer Celebration
DESCRIPTION:Drage_i prostovoljke_ci Društva Parada ponosa\, brez vaše pomoči ne bi šlo. Hvala za vaš čas in iniciativo\, ki je pripomogla k organizaciji Festivala Parada ponosa 2021!\nHvala za pomoč pri tehnični postavitvi\, varnosti\, pripravi hrane\, fotografiranju\, prodaji promocijskih materialov\, zbiranju podpisov\, prevajanju\, montaži\, administrativnem delu\, nastopanju\, pisanju dovolilnic in neskončnih mailov\, svetovanju ter pri vseh drugih manj vidnih nalogah\, ki so bile kljub temu ključnega pomena.\nDa proslavimo naš skupni trud za skupnost\, smo prvi dogodek Parada povezuje v novi sezoni posvetile_i praznovanju. Še eno uspešno paradno leto bomo skupaj proslavile_i ob gledanju fotografij in posnetkov ter deljenju bolj in manj uspešnih trenutkov pri organizaciji festivala.\nDogodek bo potekal 23. septembra\, od 18.00 – 21.00\, na dvorišču pisarne Društva Parada ponosa\, ki je dostopno skozi zapornico z Vilharjeve ceste. V primeru dežja bo dogodek potekal v pisarni. Lokacija je dostopna za osebe\, ki uporabljajo voziček.\n\nZa udeležbo na dogodku so potrebne prijave: https://forms.gle/jBYShqBwZpQPx3ZA8\n\nNa dogodku bomo upoštevale_i vse preventivne ukrepe za zajezitev epidemije kot so nošenje mask\, razkuževanje in umivanje rok\, vzdrževanje medsebojne razdalje in upoštevanje vseh veljavnih ukrepov za zajezitev epidemije. Udeleženke_ci dogodka morajo izpolnjevati pogoj PCT.
URL:https://ljubljanapride.org/event/pride-connects-volunteer-celebration/
LOCATION:Društvo Parada ponosa\, Dunajska cesta 10
ATTACH;FMTTYPE=image/png:https://ljubljanapride.org/wp-content/uploads/2021/09/PCE-Volunteer-celebration.png
END:VEVENT
END:VCALENDAR