BEGIN:VCALENDAR
VERSION:2.0
PRODID:-//Društvo Parada Ponosa - ECPv6.15.17.1//NONSGML v1.0//EN
CALSCALE:GREGORIAN
METHOD:PUBLISH
X-WR-CALNAME:Društvo Parada Ponosa
X-ORIGINAL-URL:https://ljubljanapride.org
X-WR-CALDESC:Dogodki za Društvo Parada Ponosa
REFRESH-INTERVAL;VALUE=DURATION:PT1H
X-Robots-Tag:noindex
X-PUBLISHED-TTL:PT1H
BEGIN:VTIMEZONE
TZID:Europe/Helsinki
BEGIN:DAYLIGHT
TZOFFSETFROM:+0200
TZOFFSETTO:+0300
TZNAME:EEST
DTSTART:20190331T010000
END:DAYLIGHT
BEGIN:STANDARD
TZOFFSETFROM:+0300
TZOFFSETTO:+0200
TZNAME:EET
DTSTART:20191027T010000
END:STANDARD
BEGIN:DAYLIGHT
TZOFFSETFROM:+0200
TZOFFSETTO:+0300
TZNAME:EEST
DTSTART:20200329T010000
END:DAYLIGHT
BEGIN:STANDARD
TZOFFSETFROM:+0300
TZOFFSETTO:+0200
TZNAME:EET
DTSTART:20201025T010000
END:STANDARD
BEGIN:DAYLIGHT
TZOFFSETFROM:+0200
TZOFFSETTO:+0300
TZNAME:EEST
DTSTART:20210328T010000
END:DAYLIGHT
BEGIN:STANDARD
TZOFFSETFROM:+0300
TZOFFSETTO:+0200
TZNAME:EET
DTSTART:20211031T010000
END:STANDARD
END:VTIMEZONE
BEGIN:VEVENT
DTSTART;TZID=Europe/Helsinki:20200528T190000
DTEND;TZID=Europe/Helsinki:20200528T200000
DTSTAMP:20260425T054653
CREATED:20200525T140244Z
LAST-MODIFIED:20200525T140329Z
UID:3640-1590692400-1590696000@ljubljanapride.org
SUMMARY:Pride Fundraiser: V živo na spletu z July Jones
DESCRIPTION:Vabljene_i na prvi paradni spletno-glasbeni Pride Fundraiser dogodek z July Jones! ??? \nKer kaže\, da še nekaj časa ne bomo mogle_i z vami plesati ob glasbenih dogodkih v živo\, smo se odločile_i\, da poskrbimo za glasbeno dogajanje na spletu! \nBliža se paradni mesec\, ki ga želimo obeležiti ob pomoči glasbenic_kov\, ki so že sodelovale_i na Festivalu Parada ponosa. July Jones je leta 2018 na našem odru prevzela publiko z njeno živahnostjo in zato smo vesele_i ponovnega srečanja in obujanja spominov z njo. Poleg tega pa bo za nas pripravila še posebno presenečenje v obliki dveh kvir glasbenih gostij\, s katerima trenutno sodeluje. Obljubljamo divje užitke in pomembne debate! \nHkrati bomo naš glasbeni program izkoristile_i za priložnost\, da vas prosimo za donacijo. Če podpirate in imate možnost\, da nam lahko pomagate pri ohranjanju kvalitetnih vsebin na paradi in Festivalu Parada ponosa za LGBTIQ+ skupnost\, svojo podporo izkažete lahko preko \nPayPal računa ✅shorturl.at/auRUX\nali\npreko nakazila TRR ✅http://www.ljubljanapride.org/podpri-nas/ \nSe vidimo v četrtek\, 28. maja ob 19:00h v živo na spletu! \nJuly Jones\, ki živi v Londonu\, prihaja pa iz Ljubljane\, je bila od 14. leta naprej na divjem ustvarjalnem potovanju\, saj je pri 14 letih podpisala prvo pogodbo z založbo. Kot prava gen-z zvezda je postala slavna po eksplozivnem uspehu na YouTubu\, saj je sodelovala pri BTS\, Sigala\, JYYE in 1991. July Jones zdaj utira svojo pot in utira pot novemu valu več žanrskih mladih umetnic_kov. Strastno uporablja njene platforme za teme\, povezane z LGBTQI+ in duševnim zdravjem.
URL:https://ljubljanapride.org/event/pride-fundraiser-v-zivo-na-spletu-z-july-jones/
LOCATION:LIVE ONLINE
ATTACH;FMTTYPE=image/jpeg:https://ljubljanapride.org/wp-content/uploads/2020/05/Fundraiser_July-Jones_fb-event-cover.jpg
ORGANIZER;CN="Dru%C5%A1tvo Parada ponosa":MAILTO:info@ljubljanapride.org
END:VEVENT
END:VCALENDAR