BEGIN:VCALENDAR
VERSION:2.0
PRODID:-//Društvo Parada Ponosa - ECPv6.15.17.1//NONSGML v1.0//EN
CALSCALE:GREGORIAN
METHOD:PUBLISH
X-WR-CALNAME:Društvo Parada Ponosa
X-ORIGINAL-URL:https://ljubljanapride.org
X-WR-CALDESC:Dogodki za Društvo Parada Ponosa
REFRESH-INTERVAL;VALUE=DURATION:PT1H
X-Robots-Tag:noindex
X-PUBLISHED-TTL:PT1H
BEGIN:VTIMEZONE
TZID:Europe/Ljubljana
BEGIN:DAYLIGHT
TZOFFSETFROM:+0100
TZOFFSETTO:+0200
TZNAME:CEST
DTSTART:20210328T010000
END:DAYLIGHT
BEGIN:STANDARD
TZOFFSETFROM:+0200
TZOFFSETTO:+0100
TZNAME:CET
DTSTART:20211031T010000
END:STANDARD
BEGIN:DAYLIGHT
TZOFFSETFROM:+0100
TZOFFSETTO:+0200
TZNAME:CEST
DTSTART:20220327T010000
END:DAYLIGHT
BEGIN:STANDARD
TZOFFSETFROM:+0200
TZOFFSETTO:+0100
TZNAME:CET
DTSTART:20221030T010000
END:STANDARD
BEGIN:DAYLIGHT
TZOFFSETFROM:+0100
TZOFFSETTO:+0200
TZNAME:CEST
DTSTART:20230326T010000
END:DAYLIGHT
BEGIN:STANDARD
TZOFFSETFROM:+0200
TZOFFSETTO:+0100
TZNAME:CET
DTSTART:20231029T010000
END:STANDARD
END:VTIMEZONE
BEGIN:VEVENT
DTSTART;TZID=Europe/Ljubljana:20220823T170000
DTEND;TZID=Europe/Ljubljana:20220823T190000
DTSTAMP:20260421T203836
CREATED:20220801T062047Z
LAST-MODIFIED:20220802T085911Z
UID:5907-1661274000-1661281200@ljubljanapride.org
SUMMARY:Pride Month is over and what stays?
DESCRIPTION:Samokritika je najboljša kritika\, kritika drugih pa je nujna. (Karl Popper) \nMesec ponosa se je zaključil. Kaj pa zdaj? \nTekom paradnega mesec smo vse_i dobile_i veliko vtisov\, misli\, občutkov. Kaj pa zdaj? Čas za obujanje spominov\, za evalvacijo in čas za načrtovanje prihodnosti. Za to vam želimo dati prostor! \nŽelimo slišati vaše mnenje o letošnjem Festivalu Parada ponosa\, predvsem z vidika našega poskusa upoštevanja trajnostnih vidikov. \n\nAli menite\, da je pomembno\, da se spopadamo s to temo?\nSte opazile_i kakšne trajnostne izdelke ali temu posvečene aktivnosti v času trajanja Festivala\, Paradne dne in Paradne povorke?\nBi si v prihodnje želele_i pisan\, a uvožen mavrični merch ali recikliran in ročno narejen merch lokalnih obrtnic_kov?\n\nO tem in o še veliko več bomo spregovorile_i v torek\, 23. avgusta\, od 17.00 do 19.00 v prostorih Društva Parada ponosa\, na Dunajski 10.\nSrečanje bomo začele_i s predstavitvijo našega letošnjega programa trajnostnega aktivizma\, da se spomnimo\, kaj vse se je dogajalo do zdaj. \nNato pa bomo potrebovale_i vas\, vaše ideje in mnenje – da bo Festival Parada ponosa prihodnje leto še bolj trajnosten ter da bomo z vsakim prihajajočim letom izvajale_i in prilagajale_i čedalje več boljših idej in praks. \nPrijavite se na wendla@ljubljanapride.org\, da bomo lahko računale_i na vas!
URL:https://ljubljanapride.org/event/pride-month-is-over-and-what-stays/
LOCATION:Društvo Parada ponosa\, Dunajska cesta 10
ATTACH;FMTTYPE=image/png:https://ljubljanapride.org/wp-content/uploads/2022/08/Evaluation_ig.png
END:VEVENT
END:VCALENDAR