BEGIN:VCALENDAR
VERSION:2.0
PRODID:-//Društvo Parada Ponosa - ECPv6.15.17.1//NONSGML v1.0//EN
CALSCALE:GREGORIAN
METHOD:PUBLISH
X-WR-CALNAME:Društvo Parada Ponosa
X-ORIGINAL-URL:https://ljubljanapride.org
X-WR-CALDESC:Dogodki za Društvo Parada Ponosa
REFRESH-INTERVAL;VALUE=DURATION:PT1H
X-Robots-Tag:noindex
X-PUBLISHED-TTL:PT1H
BEGIN:VTIMEZONE
TZID:Europe/Helsinki
BEGIN:DAYLIGHT
TZOFFSETFROM:+0200
TZOFFSETTO:+0300
TZNAME:EEST
DTSTART:20190331T010000
END:DAYLIGHT
BEGIN:STANDARD
TZOFFSETFROM:+0300
TZOFFSETTO:+0200
TZNAME:EET
DTSTART:20191027T010000
END:STANDARD
BEGIN:DAYLIGHT
TZOFFSETFROM:+0200
TZOFFSETTO:+0300
TZNAME:EEST
DTSTART:20200329T010000
END:DAYLIGHT
BEGIN:STANDARD
TZOFFSETFROM:+0300
TZOFFSETTO:+0200
TZNAME:EET
DTSTART:20201025T010000
END:STANDARD
BEGIN:DAYLIGHT
TZOFFSETFROM:+0200
TZOFFSETTO:+0300
TZNAME:EEST
DTSTART:20210328T010000
END:DAYLIGHT
BEGIN:STANDARD
TZOFFSETFROM:+0300
TZOFFSETTO:+0200
TZNAME:EET
DTSTART:20211031T010000
END:STANDARD
END:VTIMEZONE
BEGIN:VEVENT
DTSTART;TZID=Europe/Helsinki:20200303T180000
DTEND;TZID=Europe/Helsinki:20200303T200000
DTSTAMP:20260424T080354
CREATED:20200228T160436Z
LAST-MODIFIED:20200228T160436Z
UID:3412-1583258400-1583265600@ljubljanapride.org
SUMMARY:Priprave na 8. marec 2. del
DESCRIPTION:V februarju (in začetku marca) bodo dogodki Parada povezuje posvečeni iskanju in odkrivanju najboljšega aktivizma za vsako_ega od nas. 100 ljudi\, 100 čudi\, 100 aktivizmov. Ne glede na to\, ali greš raje na ulico in protestiraš\, raje izvajaš poučne delavnice z mladimi ali raje svojo zgodbo deliš skozi umetnost – če imaš željo po tem\, da spreminjaš svet in zahtevaš spremembe za boljši jutri\, zagotovo obstaja vrsta aktivizma\, ki bo dala glas tvojim idejam. ? \nGlavni cilj tokratnega torka je\, da se osebe\, ki se ukvarjamo ali se želimo ukvarjati z aktivizmom\, povežemo in skupaj ustvarimo letake\, ki bodo podprli vsaj tri proteste na dan žensk v Sloveniji in Berlinu. Na dogodku bomo spisale_i vsebino letakov\, jih artivistično obogatile_i in načrtovale_i njihov dizajn. To pomeni\, da se boste skozi naš osmomarčevski aktivistični proces lahko preizkusile_i na različnih področjih. Vabimo vas\, da se kreativno izrazite in izdelate svojo lastno feministično propagando za osmi marec! Spoznale boste tudi nekoliko širšo sliko in dolgoročne načrte glede dogodkov Parada povezuje\, ki se jim boste v prihodnje lahko pridružile_i. Priskrbele_i bomo vse materiale\, vse kar prineseš na dogodek si ti! \n?️ S ‘Parada povezuje’ si prizadevamo povezati lokalne LGBTIQ+ mlade\, aktivistke_e in vse\, ki jih zanima politična plat parad ponosa in boji za človekove pravice LGBTIQ+ oseb v Sloveniji in po svetu. \nZavedamo se\, da je to\, da se pojavimo kot LGBTIQ+ osebe na ulici\, samo po sebi politično dejanje. In vemo\, da to ni enostavno – zato želimo ustvarjati varen(varnejši) prostor za vse LGBTIQ+ osebe in prostor opolnomočenja.
URL:https://ljubljanapride.org/event/priprave-na-8-marec-2-del/
LOCATION:Društvo Parada ponosa\, Dunajska cesta 10\, Ljubljana
ATTACH;FMTTYPE=image/jpeg:https://ljubljanapride.org/wp-content/uploads/2020/02/Cover.jpg
ORGANIZER;CN="Dru%C5%A1tvo Parada ponosa":MAILTO:info@ljubljanapride.org
END:VEVENT
END:VCALENDAR