BEGIN:VCALENDAR
VERSION:2.0
PRODID:-//Društvo Parada Ponosa - ECPv6.15.17.1//NONSGML v1.0//EN
CALSCALE:GREGORIAN
METHOD:PUBLISH
X-WR-CALNAME:Društvo Parada Ponosa
X-ORIGINAL-URL:https://ljubljanapride.org
X-WR-CALDESC:Dogodki za Društvo Parada Ponosa
REFRESH-INTERVAL;VALUE=DURATION:PT1H
X-Robots-Tag:noindex
X-PUBLISHED-TTL:PT1H
BEGIN:VTIMEZONE
TZID:Europe/Helsinki
BEGIN:DAYLIGHT
TZOFFSETFROM:+0200
TZOFFSETTO:+0300
TZNAME:EEST
DTSTART:20190331T010000
END:DAYLIGHT
BEGIN:STANDARD
TZOFFSETFROM:+0300
TZOFFSETTO:+0200
TZNAME:EET
DTSTART:20191027T010000
END:STANDARD
BEGIN:DAYLIGHT
TZOFFSETFROM:+0200
TZOFFSETTO:+0300
TZNAME:EEST
DTSTART:20200329T010000
END:DAYLIGHT
BEGIN:STANDARD
TZOFFSETFROM:+0300
TZOFFSETTO:+0200
TZNAME:EET
DTSTART:20201025T010000
END:STANDARD
BEGIN:DAYLIGHT
TZOFFSETFROM:+0200
TZOFFSETTO:+0300
TZNAME:EEST
DTSTART:20210328T010000
END:DAYLIGHT
BEGIN:STANDARD
TZOFFSETFROM:+0300
TZOFFSETTO:+0200
TZNAME:EET
DTSTART:20211031T010000
END:STANDARD
END:VTIMEZONE
BEGIN:VEVENT
DTSTART;TZID=Europe/Helsinki:20200519T180000
DTEND;TZID=Europe/Helsinki:20200519T200000
DTSTAMP:20260425T003232
CREATED:20200525T133920Z
LAST-MODIFIED:20200525T133920Z
UID:3618-1589911200-1589918400@ljubljanapride.org
SUMMARY:Protest v karanteni 3. del
DESCRIPTION:Tudi dogodki Parada povezuje so te dni v mirovanju. Vseeno si prizadevamo ostati aktivne_i in še naprej pripravljati vsebine za vas\, skupaj z vami. \nLeto 2019 je bilo leto protestov. Porast uličnih akcij po svetu je bil tako velik\, da so ga poimenovali Globalni val protestov 2019. Potem pa je virus močno omejil eno izmed ključnih značilnosti uličnih protestov- javno zbiranje. Naša resničnost se je v roku nekaj dni spremenila (trenutno) vse kaže\, da bosta socialno distanciranje in omejitev javnega zbiranja del našega novega vsakdana. Omejevanje je imelo velik vpliv na mobilizacijo ljudi\, vendar jih ni ustavilo. Prilagodile_i smo se in na dnevni ravni iščemo nove načine nenasilnega in varnega protestiranja. Skupni imenovalec vseh je kreativnost in solidarnost in če iščemo primere samo v Sloveniji\, lahko vidimo internetne podporne skupine (s skoraj 60.000 članic_ov!)\, proteste s kolesi\, petje z balkona in kolektivne akcije zbiranja sredstev. Raziščimo skupaj\, kako ljudje protestiramo pri nas in po svetu ter najdimo načine\, da bodo naši glasovi slišani v prihodnosti. \nTa torek vas v luči nedeljskega IDAHOBIT-a 2020 vabimo\, da se pridružite Zoomu in spregovorite o svojih izkušnjah s karanteno. Ker je prepoznavnost naše skupnosti oslabljena\, imamo mnogi močno potrebo po tem\, da se ponovno povežemo\, vidimo in da izvemo\, kaj se dogaja v skupnosti. Razumemo tudi\, da lahko karantena omeji vaše načine komuniciranja – če nimaš dovolj zasebnosti\, da bi ti bilo dovolj udobno govoriti o svojih izkušnjah\, si še vedno dobrodošla_el\, da se sam pridružiš klicu in prisluhneš ostalim. Lahko napiš svoj prispevek in ga pošlješ\, lahko celo pišeš v Zoom klepetalnico ali se samo pridružiš\, nasmehneš in pomahaš! \n?️ S ‘Parada povezuje’ si prizadevamo povezati lokalne LGBTIQ+ mlade\, aktivistke_e in vse\, ki jih zanima politična plat parad ponosa in boji za človekove pravice LGBTIQ+ oseb v Sloveniji in po svetu. \nZavedamo se\, da je to\, da se pojavimo kot LGBTIQ+ osebe na ulici\, samo po sebi politično dejanje. In vemo\, da to ni enostavno – zato želimo ustvarjati varen(varnejši) prostor za vse LGBTIQ+ osebe in prostor opolnomočenja.
URL:https://ljubljanapride.org/event/protest-v-karanteni-3-del/
ATTACH;FMTTYPE=image/jpeg:https://ljubljanapride.org/wp-content/uploads/2020/05/Protest-v-karanteni-Idahobit.jpg
ORGANIZER;CN="Dru%C5%A1tvo Parada ponosa":MAILTO:info@ljubljanapride.org
END:VEVENT
END:VCALENDAR