BEGIN:VCALENDAR
VERSION:2.0
PRODID:-//Društvo Parada Ponosa - ECPv6.15.17.1//NONSGML v1.0//EN
CALSCALE:GREGORIAN
METHOD:PUBLISH
X-WR-CALNAME:Društvo Parada Ponosa
X-ORIGINAL-URL:https://ljubljanapride.org
X-WR-CALDESC:Dogodki za Društvo Parada Ponosa
REFRESH-INTERVAL;VALUE=DURATION:PT1H
X-Robots-Tag:noindex
X-PUBLISHED-TTL:PT1H
BEGIN:VTIMEZONE
TZID:Europe/Helsinki
BEGIN:DAYLIGHT
TZOFFSETFROM:+0200
TZOFFSETTO:+0300
TZNAME:EEST
DTSTART:20190331T010000
END:DAYLIGHT
BEGIN:STANDARD
TZOFFSETFROM:+0300
TZOFFSETTO:+0200
TZNAME:EET
DTSTART:20191027T010000
END:STANDARD
BEGIN:DAYLIGHT
TZOFFSETFROM:+0200
TZOFFSETTO:+0300
TZNAME:EEST
DTSTART:20200329T010000
END:DAYLIGHT
BEGIN:STANDARD
TZOFFSETFROM:+0300
TZOFFSETTO:+0200
TZNAME:EET
DTSTART:20201025T010000
END:STANDARD
BEGIN:DAYLIGHT
TZOFFSETFROM:+0200
TZOFFSETTO:+0300
TZNAME:EEST
DTSTART:20210328T010000
END:DAYLIGHT
BEGIN:STANDARD
TZOFFSETFROM:+0300
TZOFFSETTO:+0200
TZNAME:EET
DTSTART:20211031T010000
END:STANDARD
END:VTIMEZONE
BEGIN:VEVENT
DTSTART;TZID=Europe/Helsinki:20200319T190000
DTEND;TZID=Europe/Helsinki:20200319T203000
DTSTAMP:20260424T142206
CREATED:20200310T102114Z
LAST-MODIFIED:20200310T102822Z
UID:3476-1584644400-1584649800@ljubljanapride.org
SUMMARY:Sestanek prostovoljk_cev fundraising ekipe
DESCRIPTION:►Si želiš biti prostovoljka_ec na Festivalu Parada ponosa 2020?\n►Te zanima ozadje najbolj vidnega LGBTIQ+ dogodka v Sloveniji?\n►Te še posebej zanima področje fundraisinga in/ali organizacije dogodkov? \nDruštvo Parada ponosa išče nove prostovoljke_ce\, ki jih zanima delo na področju fundraisinga in organizacije dogodkov. \n????????????? ???? ?? ??? ?????č?? ?? ????????? ??????ž?? ????:\norganizirale_i bomo različne vrste fundraiserjev – dogodkov\, kot so koncerti in zabave\, nastopi\, razstave in brunchi. Tvojo pomoč bomo potrebovale_i pri zbiranju idej za program\, iskanju lokacij in nastopajočih. Potem sledi logistična organizacija dogodka: tukaj boš lahko odgovorna_en na primer za komunikacijo med vsemi sodelujočimi\, promocijo\, deljenje letakov in plakatov\, izdelovanje scene in dekoracij\, zbiranje donacij hrane in njeno pripravo. Na samem dogodku boš lahko pripravljal_a prostor\, moderiral_a\, nastopal_a\, zbiral_a denarne donacije\, fotografiral_a … in po koncu pospravljal_a\, štel_a donacije\, urejal_a fotografije. \nVključiš se lahko v vse faze organizacije dogodkov. Če te to področje zanima\, je to odlična priložnost\, da se učiš\, pridobiš izkušnje in hkrati pomagaš Društvu Parada ponosa. \n?Seveda\, če imaš kakšne lastne kreativne predloge\, jih bomo z veseljem slišale_i. 🙂 ? \nČe si se našla_el v opisu\, te vabimo\, da prideš na prvi sestanek v četrtek\, 19. 3. 2020\, ob 19.00 uri v pisarno Društva Parada ponosa na Dunajski 10 v Ljubljani. \nNa koordinacijskem sestanku se bomo spoznale_i\, predstavile_i možnosti za prostovoljsko delo\, predstavile_i koordinatorici fundraising skupine in mentorico prostovoljstva ter začele_i planirati naslednje korake. Za konec bomo predstavile_i še temo in program letošnjega festivala. \nProstovoljsko delo se bo odvijalo med marcem in junijem 2020 v Ljubljani. \nP.S. Stay tuned za naslednje prostovoljske priložnosti! \nPRIJAVI SE TUKAJ! ?️ \nZa dodatna vprašanja nas lahko kontaktiraš na info@ljubljanapride.org ali 040 366 070 (Mateja).
URL:https://ljubljanapride.org/event/sestanek-prostovoljk_cev-fundraising-ekipe/
LOCATION:Društvo Parada ponosa\, Dunajska cesta 10\, Ljubljana
ATTACH;FMTTYPE=image/jpeg:https://ljubljanapride.org/wp-content/uploads/2020/03/1.-sestanek-FUNDRAISING-prostovoljkcev_fb-event-cover-scaled.jpg
ORGANIZER;CN="Dru%C5%A1tvo Parada ponosa":MAILTO:info@ljubljanapride.org
END:VEVENT
END:VCALENDAR