BEGIN:VCALENDAR
VERSION:2.0
PRODID:-//Društvo Parada Ponosa - ECPv6.15.17.1//NONSGML v1.0//EN
CALSCALE:GREGORIAN
METHOD:PUBLISH
X-WR-CALNAME:Društvo Parada Ponosa
X-ORIGINAL-URL:https://ljubljanapride.org
X-WR-CALDESC:Dogodki za Društvo Parada Ponosa
REFRESH-INTERVAL;VALUE=DURATION:PT1H
X-Robots-Tag:noindex
X-PUBLISHED-TTL:PT1H
BEGIN:VTIMEZONE
TZID:Europe/Ljubljana
BEGIN:DAYLIGHT
TZOFFSETFROM:+0100
TZOFFSETTO:+0200
TZNAME:CEST
DTSTART:20220327T010000
END:DAYLIGHT
BEGIN:STANDARD
TZOFFSETFROM:+0200
TZOFFSETTO:+0100
TZNAME:CET
DTSTART:20221030T010000
END:STANDARD
BEGIN:DAYLIGHT
TZOFFSETFROM:+0100
TZOFFSETTO:+0200
TZNAME:CEST
DTSTART:20230326T010000
END:DAYLIGHT
BEGIN:STANDARD
TZOFFSETFROM:+0200
TZOFFSETTO:+0100
TZNAME:CET
DTSTART:20231029T010000
END:STANDARD
BEGIN:DAYLIGHT
TZOFFSETFROM:+0100
TZOFFSETTO:+0200
TZNAME:CEST
DTSTART:20240331T010000
END:DAYLIGHT
BEGIN:STANDARD
TZOFFSETFROM:+0200
TZOFFSETTO:+0100
TZNAME:CET
DTSTART:20241027T010000
END:STANDARD
END:VTIMEZONE
BEGIN:VEVENT
DTSTART;TZID=Europe/Ljubljana:20230615T170000
DTEND;TZID=Europe/Ljubljana:20230617T160000
DTSTAMP:20260420T235824
CREATED:20230609T054421Z
LAST-MODIFIED:20230612T172031Z
UID:7821-1686848400-1687017600@ljubljanapride.org
SUMMARY:Simpozij trajnostnih materialov in praks
DESCRIPTION:Vabljene_i na dogodke projekta Trajnostni aktivizem!\n\n\n\nPridružite se nam pri spodbujanju trajnostnih praks v aktivizmu ter ozaveščanju o pomembnosti podnebnih sprememb in njihovega vpliva na LGBTIQ+ mlade. V sklopu projekta vas čakajo raznolike dejavnosti\, kreativne delavnice\, simpoziji in sejem trajnostnih materialov in praks.\n\n\n\nVaša udeležba bo omogočila izmenjavo znanja\, razpravo o pomembnih vidikih podnebnih sprememb in poudarila vlogo mladih pri aktivnem premagovanju podnebnih izzivov. Ne zamudite prihajajočih dogodkov\, skupaj ustvarimo trajnostno prihodnost!\n\n\n\nČetrtek\, 15. 6.: Vodnikova domačija center (Stritarjeva ulica 7)\, 17:00-18:30\nPerspektive trajnostnih prireditev in festivalov\nhttps://fb.me/e/5ZZPkkVK2\n\n\n\nSobota\, 17. 6.: Park Zvezda\, 11:00-16:00\nGreen Mic simpozij\nhttps://fb.me/e/OqngLDG7\n\n\n\nAktivnost poteka v sklopu projekta Trajnostni aktivizem\, ki ga financira Evropska unija.\n\n\n\nIzvajanje aktivnosti sofinancira tudi URSM.
URL:https://ljubljanapride.org/event/simpozij-trajnostnih-materialov-in-praks/
LOCATION:Vodnikova domačija Center\, Stritarjeva 7\, Ljubljana
ATTACH;FMTTYPE=image/png:https://ljubljanapride.org/wp-content/uploads/2023/06/Simpozij_ig-1-e1686289339126.png
END:VEVENT
END:VCALENDAR