BEGIN:VCALENDAR
VERSION:2.0
PRODID:-//Društvo Parada Ponosa - ECPv6.15.17.1//NONSGML v1.0//EN
CALSCALE:GREGORIAN
METHOD:PUBLISH
X-WR-CALNAME:Društvo Parada Ponosa
X-ORIGINAL-URL:https://ljubljanapride.org
X-WR-CALDESC:Dogodki za Društvo Parada Ponosa
REFRESH-INTERVAL;VALUE=DURATION:PT1H
X-Robots-Tag:noindex
X-PUBLISHED-TTL:PT1H
BEGIN:VTIMEZONE
TZID:Europe/Helsinki
BEGIN:DAYLIGHT
TZOFFSETFROM:+0200
TZOFFSETTO:+0300
TZNAME:EEST
DTSTART:20190331T010000
END:DAYLIGHT
BEGIN:STANDARD
TZOFFSETFROM:+0300
TZOFFSETTO:+0200
TZNAME:EET
DTSTART:20191027T010000
END:STANDARD
BEGIN:DAYLIGHT
TZOFFSETFROM:+0200
TZOFFSETTO:+0300
TZNAME:EEST
DTSTART:20200329T010000
END:DAYLIGHT
BEGIN:STANDARD
TZOFFSETFROM:+0300
TZOFFSETTO:+0200
TZNAME:EET
DTSTART:20201025T010000
END:STANDARD
BEGIN:DAYLIGHT
TZOFFSETFROM:+0200
TZOFFSETTO:+0300
TZNAME:EEST
DTSTART:20210328T010000
END:DAYLIGHT
BEGIN:STANDARD
TZOFFSETFROM:+0300
TZOFFSETTO:+0200
TZNAME:EET
DTSTART:20211031T010000
END:STANDARD
END:VTIMEZONE
BEGIN:VEVENT
DTSTART;TZID=Europe/Helsinki:20200917T180000
DTEND;TZID=Europe/Helsinki:20200917T210000
DTSTAMP:20260425T142447
CREATED:20200904T125203Z
LAST-MODIFIED:20200909T151431Z
UID:3943-1600365600-1600376400@ljubljanapride.org
SUMMARY:Spletni dogodek: Parade ponosa v državah bivše Jugoslavije
DESCRIPTION:Organizator: Društvo DIH \nJezik: angleščina \n  \nLetos je september novi junij! 17. septembra bomo gostile_i spletni Instagram “live” srečanje in pogovor s 4 aktivistkami_i\, ki so vključene v organizacijske ekipe parad ponosa v 4 različnih državah na Balkanu (Srbija\, Črna Gora\, Slovenija in Severna Makedonija). Imele_i bomo priložnost spoznati gostje_e in njihove organizacije\, slišati odgovore in zgodbe\, povezane z delom\, izzivi\, nagradami in predanostjo do organizacije parad ponosa. Pridruži se nam na spletu in izvedi več detajlov in informacij iz “zakulisja”.
URL:https://ljubljanapride.org/event/spletni-dogodek-parade-ponosa-v-drzavah-bivse-jugoslavije/
LOCATION:Instagram profil Društva DIH (@drustvodih)
ATTACH;FMTTYPE=image/png:https://ljubljanapride.org/wp-content/uploads/2020/09/17.9.ex-yu-prides_fb-event-cover-Small-1.png
END:VEVENT
END:VCALENDAR