BEGIN:VCALENDAR
VERSION:2.0
PRODID:-//Društvo Parada Ponosa - ECPv6.15.17.1//NONSGML v1.0//EN
CALSCALE:GREGORIAN
METHOD:PUBLISH
X-WR-CALNAME:Društvo Parada Ponosa
X-ORIGINAL-URL:https://ljubljanapride.org
X-WR-CALDESC:Dogodki za Društvo Parada Ponosa
REFRESH-INTERVAL;VALUE=DURATION:PT1H
X-Robots-Tag:noindex
X-PUBLISHED-TTL:PT1H
BEGIN:VTIMEZONE
TZID:Europe/Ljubljana
BEGIN:DAYLIGHT
TZOFFSETFROM:+0100
TZOFFSETTO:+0200
TZNAME:CEST
DTSTART:20220327T010000
END:DAYLIGHT
BEGIN:STANDARD
TZOFFSETFROM:+0200
TZOFFSETTO:+0100
TZNAME:CET
DTSTART:20221030T010000
END:STANDARD
BEGIN:DAYLIGHT
TZOFFSETFROM:+0100
TZOFFSETTO:+0200
TZNAME:CEST
DTSTART:20230326T010000
END:DAYLIGHT
BEGIN:STANDARD
TZOFFSETFROM:+0200
TZOFFSETTO:+0100
TZNAME:CET
DTSTART:20231029T010000
END:STANDARD
BEGIN:DAYLIGHT
TZOFFSETFROM:+0100
TZOFFSETTO:+0200
TZNAME:CEST
DTSTART:20240331T010000
END:DAYLIGHT
BEGIN:STANDARD
TZOFFSETFROM:+0200
TZOFFSETTO:+0100
TZNAME:CET
DTSTART:20241027T010000
END:STANDARD
END:VTIMEZONE
BEGIN:VEVENT
DTSTART;TZID=Europe/Ljubljana:20230306T170000
DTEND;TZID=Europe/Ljubljana:20230306T200000
DTSTAMP:20260421T141532
CREATED:20230214T094437Z
LAST-MODIFIED:20230214T094437Z
UID:7410-1678122000-1678132800@ljubljanapride.org
SUMMARY:SQVOT dnevna: Mednarodni dan žensk
DESCRIPTION:Hej! \nV luči Mednarodnega dneva žensk smo se odločile_i\, da posvetimo naslednjo SQVOT Dnevno vsem ženskam\, tudi lezbijkam\, tudi biseksualkam\, tudi trans ženskam\, tudi nebinarnim osebam\, tudi vsem tistim “strašnim”\, ki so s svojo nenormativnostjo\, aktivizmom in trdim delom včeraj pripomogle_i k boljšemu danes. Namesto rož\, družabna igra Strašne žene (Fierce women)! \nPridruži se nam v ponedeljek\, 6. 3.\, med 17. in 20. uro v Monoklu na Metelkovi. \nSe vidimo! \nDnevna soba svoja vrata odpre vsak drugi ponedeljek v klubu Monokel na Metelkovi v Ljubljani\, kjer se družimo med 17. in 20. uro. V njej je na vsakem srečanju prisotna tudi oseba iz programa SQVOT\, ki prostor naredi še bolj varen\, na voljo pa ima tudi številne informacije o delovanju programa in storitvah\, ki jih ponujamo. \nSQVOT dnevna soba je prostor za vse mlade LGBTIQ+ osebe\, ki: \n\nHrepenimo po skupnosti!\nŽelimo naslavljati različne tematike\, preživeti čas med kul folkom ter spoznati nove prijateljice_e!\nPogrešamo varno zatočišče\, kjer lahko preživljamo svoj prosti čas!\nŽelimo prostor za pogovore o stanovanjskih stiskah\, duševnem zdravju\, življenju in vsem ostalem\, kar nas zanima.\n\nDogodek financira Evropska unija.
URL:https://ljubljanapride.org/event/sqvot-dnevna-mednarodni-dan-zensk/
LOCATION:Klub Monokel\, Metelkova mesto
ATTACH;FMTTYPE=image/jpeg:https://ljubljanapride.org/wp-content/uploads/2023/02/SQVot-dnevna_6.3._tabla-scaled.jpg
END:VEVENT
END:VCALENDAR