BEGIN:VCALENDAR
VERSION:2.0
PRODID:-//Društvo Parada Ponosa - ECPv6.15.17.1//NONSGML v1.0//EN
CALSCALE:GREGORIAN
METHOD:PUBLISH
X-WR-CALNAME:Društvo Parada Ponosa
X-ORIGINAL-URL:https://ljubljanapride.org
X-WR-CALDESC:Dogodki za Društvo Parada Ponosa
REFRESH-INTERVAL;VALUE=DURATION:PT1H
X-Robots-Tag:noindex
X-PUBLISHED-TTL:PT1H
BEGIN:VTIMEZONE
TZID:Europe/Ljubljana
BEGIN:DAYLIGHT
TZOFFSETFROM:+0100
TZOFFSETTO:+0200
TZNAME:CEST
DTSTART:20210328T010000
END:DAYLIGHT
BEGIN:STANDARD
TZOFFSETFROM:+0200
TZOFFSETTO:+0100
TZNAME:CET
DTSTART:20211031T010000
END:STANDARD
BEGIN:DAYLIGHT
TZOFFSETFROM:+0100
TZOFFSETTO:+0200
TZNAME:CEST
DTSTART:20220327T010000
END:DAYLIGHT
BEGIN:STANDARD
TZOFFSETFROM:+0200
TZOFFSETTO:+0100
TZNAME:CET
DTSTART:20221030T010000
END:STANDARD
BEGIN:DAYLIGHT
TZOFFSETFROM:+0100
TZOFFSETTO:+0200
TZNAME:CEST
DTSTART:20230326T010000
END:DAYLIGHT
BEGIN:STANDARD
TZOFFSETFROM:+0200
TZOFFSETTO:+0100
TZNAME:CET
DTSTART:20231029T010000
END:STANDARD
END:VTIMEZONE
BEGIN:VEVENT
DTSTART;TZID=Europe/Ljubljana:20220808T170000
DTEND;TZID=Europe/Ljubljana:20220808T200000
DTSTAMP:20260422T101731
CREATED:20220804T104849Z
LAST-MODIFIED:20220804T104849Z
UID:5920-1659978000-1659988800@ljubljanapride.org
SUMMARY:SQVOT dnevna v Monoklu
DESCRIPTION:Na tokratnem srečanju bomo pripravljale_i čisto pravo\, svežo limonado\, ki nam bo pomagala pri ohladitvi v teh vročih\, poletnih dnevih. Ob pitju osvežilne pijače bomo med seboj delile_i raznovrstne poletne dogodivščine\, ki smo jih ali pa jih še bomo doživele_i ter preživele_i popoldne pred klubom Monokel na Metelkovi. Me_i bomo prinesle_i vse sestavine za izdelovanje limonade\, prigrizke in kakšno družabno igro\, ve_i pa s seboj prinesite dobre zgodbe in anekdote! Vabljene_i!\n\nV SQVOT dnevni sobi počnemo vse\, kar se počne v res top dnevni sobi! Skupaj debatiramo\, igramo družabne igre\, ustvarjamo\, klepetamo\, predvsem pa gradimo skupnost\, ki bo odgovarjala našim potrebam. Dnevna soba svoja vrata odpre vsak drugi ponedeljek v klubu Monokel na Metelkovi v Ljubljani\, kjer se družimo med 17. in 20. uro. V dnevni sobi je na vsakem srečanju prisotna tudi oseba iz programa SQVOT\, ki prostor naredi še bolj varen\, na voljo pa ima tudi številne informacije o delovanju programa SQVOT in storitvah\, ki jih ponujamo.\n\nSqvot dnevna soba je prostor za vse mlade LGBTIQ+ osebe\, ki:\n\nHrepenimo po skupnosti!\nŽelimo naslavljati različne tematike\, preživeti prosti čas med kul folkom ter spoznati nove prijateljice_e!\nPogrešamo varno zatočišče\, kjer lahko preživljamo svoj prosti čas!\nŽelimo prostor za pogovore o stanovanjskih stiskah\, duševnem zdravju\, življenju in vsem ostalem\, kar nas zanima.
URL:https://ljubljanapride.org/event/sqvot-dnevna-v-monoklu-2/
LOCATION:Klub Monokel\, Metelkova mesto
ATTACH;FMTTYPE=image/jpeg:https://ljubljanapride.org/wp-content/uploads/2022/08/SQVot-dnevna_8.-8._ig-scaled-e1661247818590.jpg
END:VEVENT
END:VCALENDAR