BEGIN:VCALENDAR
VERSION:2.0
PRODID:-//Društvo Parada Ponosa - ECPv6.15.17.1//NONSGML v1.0//EN
CALSCALE:GREGORIAN
METHOD:PUBLISH
X-WR-CALNAME:Društvo Parada Ponosa
X-ORIGINAL-URL:https://ljubljanapride.org
X-WR-CALDESC:Dogodki za Društvo Parada Ponosa
REFRESH-INTERVAL;VALUE=DURATION:PT1H
X-Robots-Tag:noindex
X-PUBLISHED-TTL:PT1H
BEGIN:VTIMEZONE
TZID:Europe/Ljubljana
BEGIN:DAYLIGHT
TZOFFSETFROM:+0100
TZOFFSETTO:+0200
TZNAME:CEST
DTSTART:20210328T010000
END:DAYLIGHT
BEGIN:STANDARD
TZOFFSETFROM:+0200
TZOFFSETTO:+0100
TZNAME:CET
DTSTART:20211031T010000
END:STANDARD
BEGIN:DAYLIGHT
TZOFFSETFROM:+0100
TZOFFSETTO:+0200
TZNAME:CEST
DTSTART:20220327T010000
END:DAYLIGHT
BEGIN:STANDARD
TZOFFSETFROM:+0200
TZOFFSETTO:+0100
TZNAME:CET
DTSTART:20221030T010000
END:STANDARD
BEGIN:DAYLIGHT
TZOFFSETFROM:+0100
TZOFFSETTO:+0200
TZNAME:CEST
DTSTART:20230326T010000
END:DAYLIGHT
BEGIN:STANDARD
TZOFFSETFROM:+0200
TZOFFSETTO:+0100
TZNAME:CET
DTSTART:20231029T010000
END:STANDARD
END:VTIMEZONE
BEGIN:VEVENT
DTSTART;TZID=Europe/Ljubljana:20221213T170000
DTEND;TZID=Europe/Ljubljana:20221213T180000
DTSTAMP:20260421T235324
CREATED:20221207T141529Z
LAST-MODIFIED:20221207T141529Z
UID:7060-1670950800-1670954400@ljubljanapride.org
SUMMARY:SQVOT podporna skupina
DESCRIPTION:Pred mesecem dni vas je 252 odgovorilo na vprašalnik o duševnem zdravju. Od tega vas je 232 povedalo\, da se soočate s težavami\, kot so tesnoba/anksioznost\, depresija\, panični napadi\, kroničen stres\, izgorelost …\, ki imajo negativne posledice na vaše vsakdanje življenje.\n\n\n\nTežko je. Pandemija je stiske marsikoga še poglobila. Praznični december jih lahko še bolj. Zakaj se ne bi o vsem tem pogovarjale_i? Skupaj.\n\n\n\nVabimo te na prvo srečanje podporne skupine za LGBTIQ+ mlade\, ki se srečujejo s težavami v duševnem zdravju – tesnobo/anksioznostjo\, depresijo\, izgorelostjo in drugimi podobnimi težavami. Srečanja bodo potekala v Ljubljani\, natančno lokacijo sporočimo ob prijavi.\n\n\nPrijava: https://bit.ly/3Y6hsFe\n\n\n\nPodporne skupine so namenjene ustvarjanju varnega prostora za pogovore o duševnem zdravju in čustvenih stiskah\, deljenje izkušenj in skupno iskanje strategij za izboljšanje duševnega zdravja. Skupino bo vodila strokovna delavka.
URL:https://ljubljanapride.org/event/sqvot-podporna-skupina/
ATTACH;FMTTYPE=image/png:https://ljubljanapride.org/wp-content/uploads/2022/12/SQVOT_PodpornaSkupina.png
ORGANIZER;CN="Dru%C5%A1tvo Parada Ponosa":MAILTO:info@ljubljanapride.org
END:VEVENT
END:VCALENDAR