BEGIN:VCALENDAR
VERSION:2.0
PRODID:-//Društvo Parada Ponosa - ECPv6.15.17.1//NONSGML v1.0//EN
CALSCALE:GREGORIAN
METHOD:PUBLISH
X-WR-CALNAME:Društvo Parada Ponosa
X-ORIGINAL-URL:https://ljubljanapride.org
X-WR-CALDESC:Dogodki za Društvo Parada Ponosa
REFRESH-INTERVAL;VALUE=DURATION:PT1H
X-Robots-Tag:noindex
X-PUBLISHED-TTL:PT1H
BEGIN:VTIMEZONE
TZID:Europe/Ljubljana
BEGIN:DAYLIGHT
TZOFFSETFROM:+0100
TZOFFSETTO:+0200
TZNAME:CEST
DTSTART:20210328T010000
END:DAYLIGHT
BEGIN:STANDARD
TZOFFSETFROM:+0200
TZOFFSETTO:+0100
TZNAME:CET
DTSTART:20211031T010000
END:STANDARD
BEGIN:DAYLIGHT
TZOFFSETFROM:+0100
TZOFFSETTO:+0200
TZNAME:CEST
DTSTART:20220327T010000
END:DAYLIGHT
BEGIN:STANDARD
TZOFFSETFROM:+0200
TZOFFSETTO:+0100
TZNAME:CET
DTSTART:20221030T010000
END:STANDARD
BEGIN:DAYLIGHT
TZOFFSETFROM:+0100
TZOFFSETTO:+0200
TZNAME:CEST
DTSTART:20230326T010000
END:DAYLIGHT
BEGIN:STANDARD
TZOFFSETFROM:+0200
TZOFFSETTO:+0100
TZNAME:CET
DTSTART:20231029T010000
END:STANDARD
END:VTIMEZONE
BEGIN:VEVENT
DTSTART;TZID=Europe/Ljubljana:20220813T170000
DTEND;TZID=Europe/Ljubljana:20220813T230000
DTSTAMP:20260422T042107
CREATED:20220801T071258Z
LAST-MODIFIED:20220802T070322Z
UID:5888-1660410000-1660431600@ljubljanapride.org
SUMMARY:Sustainable Pride stojnica
DESCRIPTION:Obiščite našo stojnico na letošnjem sejmu RECIKLART\, kjer bodo na voljo naši trajnostni izdelki\, ki smo jih ustvarile_i s pomočjo evropskih prostovoljk_cev v času festivala.\n\nTo bo še zadnja priložnost za nakup ročno izdelanih in recikliranih izdelkov z logotipom Festivala Parada ponosa 2022 in našo letošnjo trajnostno vizualijo.\n\nKo zmanjka\, zmanjka!\n\nZato vas vabimo\, da obiščete sejem in si ogledate naše reciklirane izdelke ustvarjalnih umov in spretnih rok iz Slovenije in Evrope.
URL:https://ljubljanapride.org/event/sustainable-pride-stojnica/
LOCATION:Metelkova\, 1000 Ljubljana
ATTACH;FMTTYPE=image/jpeg:https://ljubljanapride.org/wp-content/uploads/2022/08/SP_Stall_IG-scaled.jpg
END:VEVENT
END:VCALENDAR