BEGIN:VCALENDAR
VERSION:2.0
PRODID:-//Društvo Parada Ponosa - ECPv6.15.17.1//NONSGML v1.0//EN
CALSCALE:GREGORIAN
METHOD:PUBLISH
X-WR-CALNAME:Društvo Parada Ponosa
X-ORIGINAL-URL:https://ljubljanapride.org
X-WR-CALDESC:Dogodki za Društvo Parada Ponosa
REFRESH-INTERVAL;VALUE=DURATION:PT1H
X-Robots-Tag:noindex
X-PUBLISHED-TTL:PT1H
BEGIN:VTIMEZONE
TZID:Europe/Helsinki
BEGIN:DAYLIGHT
TZOFFSETFROM:+0200
TZOFFSETTO:+0300
TZNAME:EEST
DTSTART:20200329T010000
END:DAYLIGHT
BEGIN:STANDARD
TZOFFSETFROM:+0300
TZOFFSETTO:+0200
TZNAME:EET
DTSTART:20201025T010000
END:STANDARD
BEGIN:DAYLIGHT
TZOFFSETFROM:+0200
TZOFFSETTO:+0300
TZNAME:EEST
DTSTART:20210328T010000
END:DAYLIGHT
BEGIN:STANDARD
TZOFFSETFROM:+0300
TZOFFSETTO:+0200
TZNAME:EET
DTSTART:20211031T010000
END:STANDARD
BEGIN:DAYLIGHT
TZOFFSETFROM:+0200
TZOFFSETTO:+0300
TZNAME:EEST
DTSTART:20220327T010000
END:DAYLIGHT
BEGIN:STANDARD
TZOFFSETFROM:+0300
TZOFFSETTO:+0200
TZNAME:EET
DTSTART:20221030T010000
END:STANDARD
END:VTIMEZONE
BEGIN:VEVENT
DTSTART;TZID=Europe/Helsinki:20210419T170000
DTEND;TZID=Europe/Helsinki:20210419T190000
DTSTAMP:20260424T070929
CREATED:20210330T101310Z
LAST-MODIFIED:20210330T112712Z
UID:4766-1618851600-1618858800@ljubljanapride.org
SUMMARY:To je moja zgodba: prvo srečanje
DESCRIPTION:Se želiš v naravi družiti z mladimi\, s katerimi imaš nekaj skupnega?\n\nVabimo te na prvo srečanje oseb z izkušnjami vrstniškega nasilja na podlagi spolne usmerjenosti\, identitete in/ali izraza. Če se želiš srečanja udeležiti ali pa imaš kakšno vprašanje\, dilemo nam pošlji mail na info@ljubljanapride.org.\n\nS tem dogodkom začenjamo cikel srečanj\, namenjenih spoznavanju in druženju oseb s podobnimi izkušnjami. Na podlagi teh srečanj se bo oblikovala skupina mladih\, ki si bodo ob deljenju zgodb o vrstniškem nasilju nudile_i medsebojno podporo\, se opolnomočile_i in se naučile_i svojo zgodbo pripovedovati izven skupine in naših srečanj.\n\nDogodek bo potekal v parku Tivoli\, v primeru slabega vremena v prostorih Društva Parada ponosa na Dunajski 10 ter v primeru zaostritve ukrepov na spletu. Če se želiš srečanja udeležiti\, nam pošlji mail na info@ljubljanapride.org in v odgovoru ti pošljemo bolj podrobne informacije. Dogodek bo potekal v slovenskem jeziku.\nSrečanja bodo potekala v okviru projekta Preseganje kulture poniževanja\, ki je podprt s sredstvi Programa ACF v Sloveniji 2014 – 2021.
URL:https://ljubljanapride.org/event/to-je-moja-zgodba-prvo-srecanje/
LOCATION:Tivoli
ATTACH;FMTTYPE=image/png:https://ljubljanapride.org/wp-content/uploads/2021/03/To-je-moja-zgodba_prvo-srecanje_fb.png
END:VEVENT
END:VCALENDAR