BEGIN:VCALENDAR
VERSION:2.0
PRODID:-//Društvo Parada Ponosa - ECPv6.15.17.1//NONSGML v1.0//EN
CALSCALE:GREGORIAN
METHOD:PUBLISH
X-WR-CALNAME:Društvo Parada Ponosa
X-ORIGINAL-URL:https://ljubljanapride.org
X-WR-CALDESC:Dogodki za Društvo Parada Ponosa
REFRESH-INTERVAL;VALUE=DURATION:PT1H
X-Robots-Tag:noindex
X-PUBLISHED-TTL:PT1H
BEGIN:VTIMEZONE
TZID:Europe/Helsinki
BEGIN:DAYLIGHT
TZOFFSETFROM:+0200
TZOFFSETTO:+0300
TZNAME:EEST
DTSTART:20200329T010000
END:DAYLIGHT
BEGIN:STANDARD
TZOFFSETFROM:+0300
TZOFFSETTO:+0200
TZNAME:EET
DTSTART:20201025T010000
END:STANDARD
BEGIN:DAYLIGHT
TZOFFSETFROM:+0200
TZOFFSETTO:+0300
TZNAME:EEST
DTSTART:20210328T010000
END:DAYLIGHT
BEGIN:STANDARD
TZOFFSETFROM:+0300
TZOFFSETTO:+0200
TZNAME:EET
DTSTART:20211031T010000
END:STANDARD
BEGIN:DAYLIGHT
TZOFFSETFROM:+0200
TZOFFSETTO:+0300
TZNAME:EEST
DTSTART:20220327T010000
END:DAYLIGHT
BEGIN:STANDARD
TZOFFSETFROM:+0300
TZOFFSETTO:+0200
TZNAME:EET
DTSTART:20221030T010000
END:STANDARD
END:VTIMEZONE
BEGIN:VEVENT
DTSTART;VALUE=DATE:20210129
DTEND;VALUE=DATE:20210202
DTSTAMP:20260424T040328
CREATED:20210106T123941Z
LAST-MODIFIED:20210106T132440Z
UID:4573-1611907200-1612166399@ljubljanapride.org
SUMMARY:To je moja zgodba! Trening pripovedovalstva: osebne izpovedi o vrstniškem nasilju
DESCRIPTION:PRIJAVNICA: https://cutt.ly/Wjges5P \n  \nZa koga?  \nMlade LGBTIQ+ osebe\, ki imajo izkušnjo vrstniškega nasilja in želijo spregovoriti o svojih izkušnjah ter se preko njih opolnomočiti in izboljšati veščino govorništva.  \n  \nZakaj pripovedovalstvo? \nV šolskih prostorih je nasilje pogosto kljub številnim ukrepom in splošnemu zavedanju o tem\, kakšne so dolgoročne posledice\, ki jih izkušnja z nasiljem pusti na mladi_emu posameznici_ku. Za spremembo\, ne glede na to\, ali gre za položaj priče\, vršilke_ca nasilja ali tarče nasilja\, je potrebno več kot le zavedanje\, da nekaj ni prav. \nPrevelikokrat se dogaja\, da osebe\, ki so na poziciji moči ne ukrepajo ali pa ukrepajo neustrezno\, ker niso opremljene s konkretnimi orodji za spopadanje s takšnimi situacijami\, ali pa se izogibajo prevzemanju odgovornosti. Osebe\, ki so priča nasilju\, se mnogokrat ne počutijo dovolj opolnomočene\, da bi se na nasilje primerno odzvale ali pa jih je strah posledic\, ki bi jih njihova reakcija povzročila (npr. socialna izključenost\, preusmeritev nasilja nanje). Osebe\, ki doživljajo nasilje pa pogosto ne vedo\, na koga se lahko v takem primeru obrnejo\, kje lahko najdejo podporo in zaščito ali pa naletijo na gluha ušesa in neustrezno reakcijo. Pomembno je tudi nasloviti pozicijo vršilca nasilja\, saj so sankcije pogosto neustrezne\, ne nudijo prostor za refleksijo storjenega dejanja in vzrokov zanj ter ne vodijo k poglobljenemu in strokovnemu reševanju problema.  \nPrepad med zavedanjem\, da se nasilje dogaja in med odzivi nanj torej ni mogoče prečkati z racionalnim pristopom in nepristranskostjo\, saj enostavno nista dovolj za celostno obravnavo problematike.  \nOsebne zgodbe in izkušnje ljudi so pomembne perspektive\, h katerim se moramo vedno znova vračati\, da ohranimo svojo človečnost. Preko njih sočustvujemo\, se poistovetimo\, razmišljamo o sebi. Po drugi strani pa tudi sporočamo svojo resnico z namenom\, da spremenimo pogled nekoga drugega. Z deljenjem svojih izkušenj\, in tudi napak\, lahko ponudiš novo resnico in odpreš možnost\, da se kaj takega na drugem kraju in v drugem času ne bo ponovilo. Slušateljem ponudiš\, da se učijo iz reakcij drugih\, preko tvoje izkušnje. Ti pa imaš priložnost za razmislek\, spravo s svojo preteklostjo ter drugačno gledišče.  \n  \nKako ga uporabljamo pri naših aktivnostih in kakšna bo tvoja vloga?  \nV letu 2021 bo Društvo Parada ponosa v okviru projekta Preseganje kulture poniževanja izvajalo delavnice za osveščanje mladih\, pedagoških delavk_cev in staršev na temo prepoznavanja in naslavljanja vrstniškega nasilja na podlagi spolne usmerjenosti/identitete ter varnejšega šolskega prostora. Delavnice bo spremljala razstava mladih LGBTIQ+ oseb\, ki naslavljajo njihovo izkušnjo vrstniškega nasilja na podlagi spolne usmerjenosti in/ali spolne identitete. Tvoja vloga tekom dogodka bi bila deljenje izkušnje/osebne zgodbe na temo doživljanja vrstniškega nasilja ter pogovor z udeleženkami_ci\, pri čemer bi izvajalke_ci delavnice poskrbele_i za tvojo varnost in posredovale_ia v primeru neprimernih vprašanj ali komentarjev. \n  \nKaj pridobiš z udeležbo na treningu? \nPripovedovanje zgodb je del našega vsakdana. Je način\, kako se sporazumevamo in gradimo odnose. Pa vendar niso vse zgodbe enake in niso vse povedane na isti način. Zavedamo se\, da je deljenje osebne zgodbe z neznankami_ci lahko naporno\, še posebej če je zgodba travmatična ali nam še zmeraj vzbuja močna čustva. Na treningu se bomo pogovarjale_i o konkretnih mehanizmih soočanja s temi občutki in si nudile_i medsebojno podporo. Obravnavale_i bomo različne elemente pripovedovalstva in govorništva\, ki nam bodo v pomoč pri pripovedovanju osebnih izpovedi.  \n  \nKdaj bo trening potekal? \n  \nPetek\, 29.1. \n16.00 – 20.00  \nSpoznavanje\, program\, ustvarjanje varnega prostora\, naslavljanje različnih občinstev  \n  \nSobota\, 30.1. \n9.30 – 19.00  \nRefleksija svoje zgodbe\, retorika/govorništvo\, struktura svoje zgodbe  \n  \nNedelja\, 31.1. \n11.00-15.00  \nProstor za vajo\, zaključek\, evalvacija in naslednji koraki \n  \nVeč o projektu \nProjekt Preseganje kulture poniževanja želi vzpostaviti odprto sodelovanje med šolami in LGBTIQ+ organizacijami v Sloveniji z namenom odpravljanja družbenih in sistemskih ovir pri naslavljanju vrstniškega nasilja na podlagi spolne usmerjenosti\, spolne identitete in/ali spolnega izraza v šolskem okolju. Hkrati pa tudi opolnomočiti LGBTIQ+ organizacije in šole za spopadanje s pritiski pri izvajanju tovrstnih aktivnosti.  \nV projektu sodelujejo 3 organizacije: Društvo Parada ponosa kot prijavitelj ter LGBT organizacija Kvir mladina z Norveške in Gimnazija Ptuj iz Slovenije kot partnerja. \n  \n \n  \nProjekt je financiran s strani Finančnega mehanizma EGP in Norveške 2014-2021\, programa Active Citizens Fund v Sloveniji. \n 
URL:https://ljubljanapride.org/event/to-je-moja-zgodba-trening-pripovedovalstva-osebne-izpovedi-o-vrstniskem-nasilju/
ATTACH;FMTTYPE=image/png:https://ljubljanapride.org/wp-content/uploads/2021/01/To-je-moja-zgodba_fb-1.png
END:VEVENT
END:VCALENDAR