BEGIN:VCALENDAR
VERSION:2.0
PRODID:-//Društvo Parada Ponosa - ECPv6.15.17.1//NONSGML v1.0//EN
CALSCALE:GREGORIAN
METHOD:PUBLISH
X-WR-CALNAME:Društvo Parada Ponosa
X-ORIGINAL-URL:https://ljubljanapride.org
X-WR-CALDESC:Dogodki za Društvo Parada Ponosa
REFRESH-INTERVAL;VALUE=DURATION:PT1H
X-Robots-Tag:noindex
X-PUBLISHED-TTL:PT1H
BEGIN:VTIMEZONE
TZID:Europe/Ljubljana
BEGIN:DAYLIGHT
TZOFFSETFROM:+0100
TZOFFSETTO:+0200
TZNAME:CEST
DTSTART:20230326T010000
END:DAYLIGHT
BEGIN:STANDARD
TZOFFSETFROM:+0200
TZOFFSETTO:+0100
TZNAME:CET
DTSTART:20231029T010000
END:STANDARD
BEGIN:DAYLIGHT
TZOFFSETFROM:+0100
TZOFFSETTO:+0200
TZNAME:CEST
DTSTART:20240331T010000
END:DAYLIGHT
BEGIN:STANDARD
TZOFFSETFROM:+0200
TZOFFSETTO:+0100
TZNAME:CET
DTSTART:20241027T010000
END:STANDARD
BEGIN:DAYLIGHT
TZOFFSETFROM:+0100
TZOFFSETTO:+0200
TZNAME:CEST
DTSTART:20250330T010000
END:DAYLIGHT
BEGIN:STANDARD
TZOFFSETFROM:+0200
TZOFFSETTO:+0100
TZNAME:CET
DTSTART:20251026T010000
END:STANDARD
END:VTIMEZONE
BEGIN:VEVENT
DTSTART;TZID=Europe/Ljubljana:20241106T080000
DTEND;TZID=Europe/Ljubljana:20241109T170000
DTSTAMP:20260419T211338
CREATED:20240927T084224Z
LAST-MODIFIED:20240927T084821Z
UID:9657-1730880000-1731171600@ljubljanapride.org
SUMMARY:Transnacionalno projektno srečanje v Pragi.
DESCRIPTION:Novembra se bomo v sklopu projekta Rainbow Peer Forces udeležile_i transnacionalnega projektnega srečanja v Pragi. Na srečanju bomo evalvirale_i projektne rezultate in se bolj poglobljeno posvetile_i načrtovanju njihove promocije ter nasplošno evalvirale_i naše dosežke in samo projektno partnerstvo.
URL:https://ljubljanapride.org/event/transnacionalno-projektno-srecanja-v-pragi/
LOCATION:Praga
ATTACH;FMTTYPE=image/jpeg:https://ljubljanapride.org/wp-content/uploads/2024/01/288266324_5196435223724885_4669950186428593147_n-1-e1705322261413.jpg
END:VEVENT
END:VCALENDAR