BEGIN:VCALENDAR
VERSION:2.0
PRODID:-//Društvo Parada Ponosa - ECPv6.15.17.1//NONSGML v1.0//EN
CALSCALE:GREGORIAN
METHOD:PUBLISH
X-WR-CALNAME:Društvo Parada Ponosa
X-ORIGINAL-URL:https://ljubljanapride.org
X-WR-CALDESC:Dogodki za Društvo Parada Ponosa
REFRESH-INTERVAL;VALUE=DURATION:PT1H
X-Robots-Tag:noindex
X-PUBLISHED-TTL:PT1H
BEGIN:VTIMEZONE
TZID:Europe/Ljubljana
BEGIN:DAYLIGHT
TZOFFSETFROM:+0100
TZOFFSETTO:+0200
TZNAME:CEST
DTSTART:20240331T010000
END:DAYLIGHT
BEGIN:STANDARD
TZOFFSETFROM:+0200
TZOFFSETTO:+0100
TZNAME:CET
DTSTART:20241027T010000
END:STANDARD
BEGIN:DAYLIGHT
TZOFFSETFROM:+0100
TZOFFSETTO:+0200
TZNAME:CEST
DTSTART:20250330T010000
END:DAYLIGHT
BEGIN:STANDARD
TZOFFSETFROM:+0200
TZOFFSETTO:+0100
TZNAME:CET
DTSTART:20251026T010000
END:STANDARD
BEGIN:DAYLIGHT
TZOFFSETFROM:+0100
TZOFFSETTO:+0200
TZNAME:CEST
DTSTART:20260329T010000
END:DAYLIGHT
BEGIN:STANDARD
TZOFFSETFROM:+0200
TZOFFSETTO:+0100
TZNAME:CET
DTSTART:20261025T010000
END:STANDARD
END:VTIMEZONE
BEGIN:VEVENT
DTSTART;TZID=Europe/Ljubljana:20251210T080000
DTEND;TZID=Europe/Ljubljana:20251210T170000
DTSTAMP:20260419T201008
CREATED:20251210T122013Z
LAST-MODIFIED:20251210T122013Z
UID:11095-1765353600-1765386000@ljubljanapride.org
SUMMARY:Trenerski vikend
DESCRIPTION:Trenerski vikend bazena trenerk_jev Društva Parada ponosa \nVsako leto januarja se naša trenerska ekipa zbere na tradicionalnem trenerskem vikendu\, ki predstavlja prostor za poglobljeno načrtovanje\, skupno vizijo in razvoj področja trenerstva na Društvu Parada ponosa. \nSkupaj bomo reflektirale_i dosežke preteklega obdobja in podelile_i izkušnje\, ki so zaznamovale naše izobraževalne aktivnosti. Pogledale_i bomo tudi posodobljene interne dokumente\, ki usmerjajo naše delo\, ter razmislile_i o potrebnih nadgradnjah. \nTrenerski vikend nam omogoča\, da delujemo kot učeča se skupnost\, krepimo kakovost dela in soustvarjamo jasne korake za prihodnost trenerstva na društvu.
URL:https://ljubljanapride.org/event/trenerski-vikend-2/
ATTACH;FMTTYPE=image/jpeg:https://ljubljanapride.org/wp-content/uploads/2025/12/trenerski_vikend.jpg
END:VEVENT
END:VCALENDAR