BEGIN:VCALENDAR
VERSION:2.0
PRODID:-//Društvo Parada Ponosa - ECPv6.15.17.1//NONSGML v1.0//EN
CALSCALE:GREGORIAN
METHOD:PUBLISH
X-WR-CALNAME:Društvo Parada Ponosa
X-ORIGINAL-URL:https://ljubljanapride.org
X-WR-CALDESC:Dogodki za Društvo Parada Ponosa
REFRESH-INTERVAL;VALUE=DURATION:PT1H
X-Robots-Tag:noindex
X-PUBLISHED-TTL:PT1H
BEGIN:VTIMEZONE
TZID:Europe/Ljubljana
BEGIN:DAYLIGHT
TZOFFSETFROM:+0100
TZOFFSETTO:+0200
TZNAME:CEST
DTSTART:20230326T010000
END:DAYLIGHT
BEGIN:STANDARD
TZOFFSETFROM:+0200
TZOFFSETTO:+0100
TZNAME:CET
DTSTART:20231029T010000
END:STANDARD
BEGIN:DAYLIGHT
TZOFFSETFROM:+0100
TZOFFSETTO:+0200
TZNAME:CEST
DTSTART:20240331T010000
END:DAYLIGHT
BEGIN:STANDARD
TZOFFSETFROM:+0200
TZOFFSETTO:+0100
TZNAME:CET
DTSTART:20241027T010000
END:STANDARD
BEGIN:DAYLIGHT
TZOFFSETFROM:+0100
TZOFFSETTO:+0200
TZNAME:CEST
DTSTART:20250330T010000
END:DAYLIGHT
BEGIN:STANDARD
TZOFFSETFROM:+0200
TZOFFSETTO:+0100
TZNAME:CET
DTSTART:20251026T010000
END:STANDARD
END:VTIMEZONE
BEGIN:VEVENT
DTSTART;TZID=Europe/Ljubljana:20240113T080000
DTEND;TZID=Europe/Ljubljana:20240115T170000
DTSTAMP:20260420T185424
CREATED:20240111T095637Z
LAST-MODIFIED:20240111T095637Z
UID:8693-1705132800-1705338000@ljubljanapride.org
SUMMARY:Trenerski vikend
DESCRIPTION:Sredi januarja bo se trenerska ekipa Društva Parada ponosa udeležila trenerskega vikenda v Zrečah z namenom povezovanja\, pregleda in načrtovanja prihajajočih trenerskih aktivnostih. Poleg tega pa bodo še raziskovale_i kje in kako se povezati z mavričnimi tutorkami_ji – skupino vrstniških izobraževalk_cev Društva. \nPo koncu trenerskega vikenda bo ekipa okrepljena in pripravljena na nove aktivnosti 🙂 \nIzvedbo aktivnosti financira Evropska Unija.
URL:https://ljubljanapride.org/event/trenerski-vikend/
ATTACH;FMTTYPE=image/jpeg:https://ljubljanapride.org/wp-content/uploads/2024/01/trenerji-e1704966951378.jpg
END:VEVENT
END:VCALENDAR