BEGIN:VCALENDAR
VERSION:2.0
PRODID:-//Društvo Parada Ponosa - ECPv6.15.17.1//NONSGML v1.0//EN
CALSCALE:GREGORIAN
METHOD:PUBLISH
X-WR-CALNAME:Društvo Parada Ponosa
X-ORIGINAL-URL:https://ljubljanapride.org
X-WR-CALDESC:Dogodki za Društvo Parada Ponosa
REFRESH-INTERVAL;VALUE=DURATION:PT1H
X-Robots-Tag:noindex
X-PUBLISHED-TTL:PT1H
BEGIN:VTIMEZONE
TZID:Europe/Ljubljana
BEGIN:DAYLIGHT
TZOFFSETFROM:+0100
TZOFFSETTO:+0200
TZNAME:CEST
DTSTART:20200329T010000
END:DAYLIGHT
BEGIN:STANDARD
TZOFFSETFROM:+0200
TZOFFSETTO:+0100
TZNAME:CET
DTSTART:20201025T010000
END:STANDARD
BEGIN:DAYLIGHT
TZOFFSETFROM:+0100
TZOFFSETTO:+0200
TZNAME:CEST
DTSTART:20210328T010000
END:DAYLIGHT
BEGIN:STANDARD
TZOFFSETFROM:+0200
TZOFFSETTO:+0100
TZNAME:CET
DTSTART:20211031T010000
END:STANDARD
BEGIN:DAYLIGHT
TZOFFSETFROM:+0100
TZOFFSETTO:+0200
TZNAME:CEST
DTSTART:20220327T010000
END:DAYLIGHT
BEGIN:STANDARD
TZOFFSETFROM:+0200
TZOFFSETTO:+0100
TZNAME:CET
DTSTART:20221030T010000
END:STANDARD
END:VTIMEZONE
BEGIN:VEVENT
DTSTART;VALUE=DATE:20210705
DTEND;VALUE=DATE:20210713
DTSTAMP:20260424T202826
CREATED:20210628T081818Z
LAST-MODIFIED:20210628T081818Z
UID:4897-1625472000-1626076799@ljubljanapride.org
SUMMARY:TRENING V BERLINU: Naslavljanje sovražnega govora v javnem prostoru z uporabo kreativnih metodologij
DESCRIPTION:Društvo Parada ponosa vas na trening v Berlinu z naslovom “Naslavljanje sovražnega govora v javnemu prostoru z uporabo kreativnih metodologij” ki ga izvajamo v sodelovanju z organizacijama INAR (Irish Network Against Racism) in Loesje Berlin\, v okviru strateškega partnerstva. \n\nKJE\, ZA KOGA in KDAJ?\nTrening bo potekal v angleščini\, v obliki študijskega obiska in je namenjen mladinskim delavkam_cem oz. vsem\, ki delajo z mladimi. Odvijal se bo med 5.-11.7.2021. v Berlinu.\n\nKAJ in KDO?\nNa treningu boste imele_i priložnost spoznati primere dobrih praks s področja naslavljanja sovražnega govora  Predstavljale jih bodo različne nemške organizacije in institucije.\n\nKAKO SE PRIJAVITI? \nInteres za udeležbo nam prosim sporočite preko email naslova info@ljubljanapride.org. 
URL:https://ljubljanapride.org/event/trening-v-berlinu-naslavljanje-sovraznega-govora-v-javnem-prostoru-z-uporabo-kreativnih-metodologij/
LOCATION:Berlin\, Nemčija
ATTACH;FMTTYPE=image/png:https://ljubljanapride.org/wp-content/uploads/2021/06/Berlin_training_FB.png
END:VEVENT
END:VCALENDAR