BEGIN:VCALENDAR
VERSION:2.0
PRODID:-//Društvo Parada Ponosa - ECPv6.15.17.1//NONSGML v1.0//EN
CALSCALE:GREGORIAN
METHOD:PUBLISH
X-WR-CALNAME:Društvo Parada Ponosa
X-ORIGINAL-URL:https://ljubljanapride.org
X-WR-CALDESC:Dogodki za Društvo Parada Ponosa
REFRESH-INTERVAL;VALUE=DURATION:PT1H
X-Robots-Tag:noindex
X-PUBLISHED-TTL:PT1H
BEGIN:VTIMEZONE
TZID:Europe/Ljubljana
BEGIN:DAYLIGHT
TZOFFSETFROM:+0100
TZOFFSETTO:+0200
TZNAME:CEST
DTSTART:20230326T010000
END:DAYLIGHT
BEGIN:STANDARD
TZOFFSETFROM:+0200
TZOFFSETTO:+0100
TZNAME:CET
DTSTART:20231029T010000
END:STANDARD
BEGIN:DAYLIGHT
TZOFFSETFROM:+0100
TZOFFSETTO:+0200
TZNAME:CEST
DTSTART:20240331T010000
END:DAYLIGHT
BEGIN:STANDARD
TZOFFSETFROM:+0200
TZOFFSETTO:+0100
TZNAME:CET
DTSTART:20241027T010000
END:STANDARD
BEGIN:DAYLIGHT
TZOFFSETFROM:+0100
TZOFFSETTO:+0200
TZNAME:CEST
DTSTART:20250330T010000
END:DAYLIGHT
BEGIN:STANDARD
TZOFFSETFROM:+0200
TZOFFSETTO:+0100
TZNAME:CET
DTSTART:20251026T010000
END:STANDARD
END:VTIMEZONE
BEGIN:VEVENT
DTSTART;TZID=Europe/Ljubljana:20241118T080000
DTEND;TZID=Europe/Ljubljana:20241124T170000
DTSTAMP:20260419T144307
CREATED:20240927T084523Z
LAST-MODIFIED:20240927T084926Z
UID:9662-1731916800-1732467600@ljubljanapride.org
SUMMARY:Trening v Makedoniji - Sex Ed
DESCRIPTION:Člani_ce ekipe Parade Ponosa ter vrstniške_i izobraževalke_ci se bodo v novembru udeležile_i usposabljanja na temo spolne vzgoje v Severni Makedoniji. V sodelovanju z organizacijama Loesje Berlin in Loesje Bitola bomo naslovile_i teme varnih spolnih odnosov\, privolitve\, komunikacije in mnogih drugih. Namen treninga je\, da bomo pridobljeno znanje prinesle_i nazaj domov in prenesle_i na LGBTIQ+ mlade v Sloveniji v obliki delavnic\, treningov in usposabljanj\, s katerimi želimo širiti ozaveščenost na tem zelo pomembnem področju.
URL:https://ljubljanapride.org/event/trening-v-makedoniji-sex-ed/
ATTACH;FMTTYPE=image/jpeg:https://ljubljanapride.org/wp-content/uploads/2024/07/unnamed-1-e1721628520249.jpg
END:VEVENT
END:VCALENDAR