BEGIN:VCALENDAR
VERSION:2.0
PRODID:-//Društvo Parada Ponosa - ECPv6.15.17.1//NONSGML v1.0//EN
CALSCALE:GREGORIAN
METHOD:PUBLISH
X-WR-CALNAME:Društvo Parada Ponosa
X-ORIGINAL-URL:https://ljubljanapride.org
X-WR-CALDESC:Dogodki za Društvo Parada Ponosa
REFRESH-INTERVAL;VALUE=DURATION:PT1H
X-Robots-Tag:noindex
X-PUBLISHED-TTL:PT1H
BEGIN:VTIMEZONE
TZID:Europe/Ljubljana
BEGIN:DAYLIGHT
TZOFFSETFROM:+0100
TZOFFSETTO:+0200
TZNAME:CEST
DTSTART:20210328T010000
END:DAYLIGHT
BEGIN:STANDARD
TZOFFSETFROM:+0200
TZOFFSETTO:+0100
TZNAME:CET
DTSTART:20211031T010000
END:STANDARD
BEGIN:DAYLIGHT
TZOFFSETFROM:+0100
TZOFFSETTO:+0200
TZNAME:CEST
DTSTART:20220327T010000
END:DAYLIGHT
BEGIN:STANDARD
TZOFFSETFROM:+0200
TZOFFSETTO:+0100
TZNAME:CET
DTSTART:20221030T010000
END:STANDARD
BEGIN:DAYLIGHT
TZOFFSETFROM:+0100
TZOFFSETTO:+0200
TZNAME:CEST
DTSTART:20230326T010000
END:DAYLIGHT
BEGIN:STANDARD
TZOFFSETFROM:+0200
TZOFFSETTO:+0100
TZNAME:CET
DTSTART:20231029T010000
END:STANDARD
END:VTIMEZONE
BEGIN:VEVENT
DTSTART;VALUE=DATE:20221026
DTEND;VALUE=DATE:20221106
DTSTAMP:20260421T192958
CREATED:20220831T134702Z
LAST-MODIFIED:20220831T135147Z
UID:6805-1666771200-1667635199@ljubljanapride.org
SUMMARY:Trening v Nemčiji: Who is the director of your gender role
DESCRIPTION:Te zanima pomembnost vključevanja LGBTIQ+ oseb v mladinsko delo?  \nŽeliš nasloviti težave s katerimi se skupnost srečuje v vsakdanjem življenju? \nPrijavite se TUKAJ: https://forms.gle/NX7nMUu29PD8wnn57 \n  \nIščemo dve_a udeleženki_ca – mladinski_a delavki_ca ali aktivistki_a -\, ki se bosta udeležili_a mednarodnega usposabljanja\, ki ga organizira Loesje Berlin od 26. oktobra do 4. novembra 2022 na nemškem podeželju v bližini Bremna. Namen projekta je ozaveščanje o resničnosti s katero se soočajo LGBTIQ+ osebe ter o pomenu njihovega vključevanja in opolnomočenja. \n  \nLoesje je kolektiv ljudi z vsega sveta\, ki se je začel na Nizozemskem. Verjamejo v moč solidarnosti in vključevanja. Z izdelavo plakatov s komentarji na aktualne teme želijo gledalki_cu pomagati\, da stvari vidi z nove perspektive. Loesje Berlin je že vrsto let pomembna partnerska organizacija Društva Parada ponosa\, s katero sodelujemo na projektu DekontRaminacija. Na usposabljanju bodo sodelovale_i udeleženke_ci iz Nemčije\, Libanona\, Severne Makedonije\, Latvije\, Češke\, Slovenije\, Tunizije\, Hrvaške in Bolgarije – to je odlična priložnost za spoznavanje in izmenjavo! \n  \nTe udeležba že kaj bolj zanima? \nPrijavi se tukaj: https://forms.gle/NX7nMUu29PD8wnn57 \n  \nPomembno opozorilo: za udeležbo na usposabljanju moraš biti v cepljen_a s cepivom Covid\, ki ga je odobrila EU. \n  \nUsposabljanje bo potekalo v angleškem jeziku. Stroški nastanitve\, prehrane in programa so v celoti kriti\, potni stroški pa se lahko krijejo v višini do 275 EUR. Nastanitev je skupnih sobah z 2-4 udeleženkami_ci. Usposabljanje bo potekalo v KulturHaus v kraju Osterholz-Scharmbeck blizu Bremna. 
URL:https://ljubljanapride.org/event/trening-v-nemciji-who-is-the-director-of-your-gender-role/
ATTACH;FMTTYPE=image/jpeg:https://ljubljanapride.org/wp-content/uploads/2022/08/Who-is-the-director-scaled.jpg
END:VEVENT
END:VCALENDAR