BEGIN:VCALENDAR
VERSION:2.0
PRODID:-//Društvo Parada Ponosa - ECPv6.15.17.1//NONSGML v1.0//EN
CALSCALE:GREGORIAN
METHOD:PUBLISH
X-WR-CALNAME:Društvo Parada Ponosa
X-ORIGINAL-URL:https://ljubljanapride.org
X-WR-CALDESC:Dogodki za Društvo Parada Ponosa
REFRESH-INTERVAL;VALUE=DURATION:PT1H
X-Robots-Tag:noindex
X-PUBLISHED-TTL:PT1H
BEGIN:VTIMEZONE
TZID:Europe/Ljubljana
BEGIN:DAYLIGHT
TZOFFSETFROM:+0100
TZOFFSETTO:+0200
TZNAME:CEST
DTSTART:20220327T010000
END:DAYLIGHT
BEGIN:STANDARD
TZOFFSETFROM:+0200
TZOFFSETTO:+0100
TZNAME:CET
DTSTART:20221030T010000
END:STANDARD
BEGIN:DAYLIGHT
TZOFFSETFROM:+0100
TZOFFSETTO:+0200
TZNAME:CEST
DTSTART:20230326T010000
END:DAYLIGHT
BEGIN:STANDARD
TZOFFSETFROM:+0200
TZOFFSETTO:+0100
TZNAME:CET
DTSTART:20231029T010000
END:STANDARD
BEGIN:DAYLIGHT
TZOFFSETFROM:+0100
TZOFFSETTO:+0200
TZNAME:CEST
DTSTART:20240331T010000
END:DAYLIGHT
BEGIN:STANDARD
TZOFFSETFROM:+0200
TZOFFSETTO:+0100
TZNAME:CET
DTSTART:20241027T010000
END:STANDARD
END:VTIMEZONE
BEGIN:VEVENT
DTSTART;VALUE=DATE:20230920
DTEND;VALUE=DATE:20230924
DTSTAMP:20260420T201611
CREATED:20230824T140516Z
LAST-MODIFIED:20230905T130524Z
UID:7984-1695196800-1695455999@ljubljanapride.org
SUMMARY:Trening zagovorništva
DESCRIPTION:ZAGOVORNIŠTVO? \nKaj točno pa je sploh zagovorništvo? Kako se ga naj loti naše društvo? Katere spremembe\, za katere se borimo\, so uresničljive skozi zagovorniške aktivnosti? \nV Društvu Parada ponosa smo v zadnjih letih vložile_i ogromno truda in dela v strateški razvoj\, profesionalizacijo organizacije\, razvoj novih strokovnih programov … sedaj je nastopil čas\, ko se bomo podale_i v nov teritorij. Več sistematičnega dela za spremembe na politični in zakonodajni ravni. In seveda\, najprej moramo usvojiti nove pristope in znanja\, da lahko zares dosežemo trajne učinke in spremembe. \nTako se bo med 20. in 22. septembrom cela ekipa društva podala na tri-dnevni intenzivni trening zagovorništva. Ključni dosežek h kateremu stremimo pa je razvoj zagovorniške strategije programa SQVOT – programa za zmanjševanje posledic manjšinskega stresa. \nUsposabljanje in strateški razvoj na področju zagovorništva nam omogoče finančna podpora ILGA-Europe programa No One Left Behind (Nikogar ne bomo pustili zadaj).
URL:https://ljubljanapride.org/event/trening-zagovornistva/
LOCATION:Strunjan\, Strunjan\, Slovenija
ATTACH;FMTTYPE=image/jpeg:https://ljubljanapride.org/wp-content/uploads/2023/08/Picsart_23-08-24_16-03-04-815.jpg
END:VEVENT
END:VCALENDAR