BEGIN:VCALENDAR
VERSION:2.0
PRODID:-//Društvo Parada Ponosa - ECPv6.15.17.1//NONSGML v1.0//EN
CALSCALE:GREGORIAN
METHOD:PUBLISH
X-WR-CALNAME:Društvo Parada Ponosa
X-ORIGINAL-URL:https://ljubljanapride.org
X-WR-CALDESC:Dogodki za Društvo Parada Ponosa
REFRESH-INTERVAL;VALUE=DURATION:PT1H
X-Robots-Tag:noindex
X-PUBLISHED-TTL:PT1H
BEGIN:VTIMEZONE
TZID:Europe/Ljubljana
BEGIN:DAYLIGHT
TZOFFSETFROM:+0100
TZOFFSETTO:+0200
TZNAME:CEST
DTSTART:20210328T010000
END:DAYLIGHT
BEGIN:STANDARD
TZOFFSETFROM:+0200
TZOFFSETTO:+0100
TZNAME:CET
DTSTART:20211031T010000
END:STANDARD
BEGIN:DAYLIGHT
TZOFFSETFROM:+0100
TZOFFSETTO:+0200
TZNAME:CEST
DTSTART:20220327T010000
END:DAYLIGHT
BEGIN:STANDARD
TZOFFSETFROM:+0200
TZOFFSETTO:+0100
TZNAME:CET
DTSTART:20221030T010000
END:STANDARD
BEGIN:DAYLIGHT
TZOFFSETFROM:+0100
TZOFFSETTO:+0200
TZNAME:CEST
DTSTART:20230326T010000
END:DAYLIGHT
BEGIN:STANDARD
TZOFFSETFROM:+0200
TZOFFSETTO:+0100
TZNAME:CET
DTSTART:20231029T010000
END:STANDARD
END:VTIMEZONE
BEGIN:VEVENT
DTSTART;TZID=Europe/Ljubljana:20220827T100000
DTEND;TZID=Europe/Ljubljana:20220827T180000
DTSTAMP:20260421T203126
CREATED:20220823T132044Z
LAST-MODIFIED:20220823T132044Z
UID:6515-1661594400-1661623200@ljubljanapride.org
SUMMARY:Ulična akcija
DESCRIPTION:Ali se načrtuješ jeseni udeležiti lokalnih volitev?\nBi si želel_a sooblikovati prihodnost LGBTIQ+ mladih v svojem lokalnem okolju? \nPotem se nam pridruži v soboto\, 27. avgusta v Mariboru! Prostovoljke_ci Društva Parada ponosa se odpravljamo na ulično akcijo in bomo med 10.00 in 18.00 uro po mestnem centru iskale_i mlade LGBTIQ+ sogovornike_ce\, ki bi z nami delile_i svoje želje in zahteve do odločevalk_cev na lokalni ravni. \nSvoja pričakovanja do prihajajočih lokalnih volitev v kontekstu zaščite LGBTIQ+ pravic pa lahko sporočiš tudi s tem\, da izpolniš krajši vprašalnik (LINK: https://forms.gle/4qwqDBcLphUBWXDk8). \nPridruži se nam in nam pomagaj zbrati pobude mladih LGBTIQ+ oseb\, ki nam bodo na dogodku “Pejte na tote lokalne volitve!” služile kot izhodišče za diskusijo in delo v skupinah. Dogodek bo potekal v torek\, 27. septembra 2022 med 17.00 in 18.30 uro v Pritličju. Vabljen_a! \nNaj se sliši naš mavrični glas!
URL:https://ljubljanapride.org/event/ulicna-akcija/
LOCATION:Maribor\, Maribor
ATTACH;FMTTYPE=image/jpeg:https://ljubljanapride.org/wp-content/uploads/2022/08/Ulicna-akcija-scaled.jpg
END:VEVENT
END:VCALENDAR