BEGIN:VCALENDAR
VERSION:2.0
PRODID:-//Društvo Parada Ponosa - ECPv6.15.17.1//NONSGML v1.0//EN
CALSCALE:GREGORIAN
METHOD:PUBLISH
X-WR-CALNAME:Društvo Parada Ponosa
X-ORIGINAL-URL:https://ljubljanapride.org
X-WR-CALDESC:Dogodki za Društvo Parada Ponosa
REFRESH-INTERVAL;VALUE=DURATION:PT1H
X-Robots-Tag:noindex
X-PUBLISHED-TTL:PT1H
BEGIN:VTIMEZONE
TZID:Europe/Ljubljana
BEGIN:DAYLIGHT
TZOFFSETFROM:+0100
TZOFFSETTO:+0200
TZNAME:CEST
DTSTART:20230326T010000
END:DAYLIGHT
BEGIN:STANDARD
TZOFFSETFROM:+0200
TZOFFSETTO:+0100
TZNAME:CET
DTSTART:20231029T010000
END:STANDARD
BEGIN:DAYLIGHT
TZOFFSETFROM:+0100
TZOFFSETTO:+0200
TZNAME:CEST
DTSTART:20240331T010000
END:DAYLIGHT
BEGIN:STANDARD
TZOFFSETFROM:+0200
TZOFFSETTO:+0100
TZNAME:CET
DTSTART:20241027T010000
END:STANDARD
BEGIN:DAYLIGHT
TZOFFSETFROM:+0100
TZOFFSETTO:+0200
TZNAME:CEST
DTSTART:20250330T010000
END:DAYLIGHT
BEGIN:STANDARD
TZOFFSETFROM:+0200
TZOFFSETTO:+0100
TZNAME:CET
DTSTART:20251026T010000
END:STANDARD
END:VTIMEZONE
BEGIN:VEVENT
DTSTART;VALUE=DATE:20240911
DTEND;VALUE=DATE:20240913
DTSTAMP:20260420T024005
CREATED:20240902T093847Z
LAST-MODIFIED:20240902T110205Z
UID:9585-1726041600-1726127999@ljubljanapride.org
SUMMARY:Vključevanje LGBTIQ+ dijakinj_ov v šolskem okolju
DESCRIPTION:Usposabljanja za šolski kolektiv Gimnazije Ptuj\, katerega namen je opolnomočiti in opremiti šolski pedagoški kader za razumevanje specifik LGBTIQ+ dijakinj_ok in potreb za delo z LGBTIQ+ dijakinjami_i. Gimnazija Ptuj je članica Mreže vključujočih šol Sloveniji\, ki se je zavezala k izgradnji vključujočega in nediskriminatornega šolskega okolja za LGBTIQ+ mlade. Redna usposabljanja za zaposlene in dijakinje_e so odličen način za izgradnjo tovrstnega okolja.
URL:https://ljubljanapride.org/event/vkljucevanje-lgbtiq-dijakinj_ov-v-solskem-okolju/
LOCATION:Gimnazija Ptuj (Volkmerjeva cesta 15\, Ptuj)\, Volkmerjeva cesta 15\,\, Ptuj
ATTACH;FMTTYPE=image/jpeg:https://ljubljanapride.org/wp-content/uploads/2024/09/Mreza-vkljucujocih-sol-03.jpg
END:VEVENT
END:VCALENDAR