BEGIN:VCALENDAR
VERSION:2.0
PRODID:-//Društvo Parada Ponosa - ECPv6.15.17.1//NONSGML v1.0//EN
CALSCALE:GREGORIAN
METHOD:PUBLISH
X-WR-CALNAME:Društvo Parada Ponosa
X-ORIGINAL-URL:https://ljubljanapride.org
X-WR-CALDESC:Dogodki za Društvo Parada Ponosa
REFRESH-INTERVAL;VALUE=DURATION:PT1H
X-Robots-Tag:noindex
X-PUBLISHED-TTL:PT1H
BEGIN:VTIMEZONE
TZID:Europe/Helsinki
BEGIN:DAYLIGHT
TZOFFSETFROM:+0200
TZOFFSETTO:+0300
TZNAME:EEST
DTSTART:20190331T010000
END:DAYLIGHT
BEGIN:STANDARD
TZOFFSETFROM:+0300
TZOFFSETTO:+0200
TZNAME:EET
DTSTART:20191027T010000
END:STANDARD
BEGIN:DAYLIGHT
TZOFFSETFROM:+0200
TZOFFSETTO:+0300
TZNAME:EEST
DTSTART:20200329T010000
END:DAYLIGHT
BEGIN:STANDARD
TZOFFSETFROM:+0300
TZOFFSETTO:+0200
TZNAME:EET
DTSTART:20201025T010000
END:STANDARD
BEGIN:DAYLIGHT
TZOFFSETFROM:+0200
TZOFFSETTO:+0300
TZNAME:EEST
DTSTART:20210328T010000
END:DAYLIGHT
BEGIN:STANDARD
TZOFFSETFROM:+0300
TZOFFSETTO:+0200
TZNAME:EET
DTSTART:20211031T010000
END:STANDARD
END:VTIMEZONE
BEGIN:VEVENT
DTSTART;TZID=Europe/Helsinki:20201116T170000
DTEND;TZID=Europe/Helsinki:20201116T183000
DTSTAMP:20260425T032351
CREATED:20201110T083541Z
LAST-MODIFIED:20201110T145744Z
UID:4165-1605546000-1605551400@ljubljanapride.org
SUMMARY:Vrstniška pogovorna skupina o stanovanjski problematike za LGBTIQ+ mlade
DESCRIPTION:Vprašanje\, kje\, kako\, s kom živiš\, lahko prinese veliko izzivov\, sploh za mlade LGBTIQ+ osebe. V LGBTIQ+ skupnosti pa pogosto nimamo prostora za pogovor o teh vprašanjih.\n\nZato vas vabimo na voden skupinski pogovor\, kjer lahko delite svoje izkušnje\, potarnate o svoji situaciji\, poiščete ali ponudite nasvet in srečate druge osebe\, ki se srečujejo s podobnimi izzivi.\n\nSkupaj si bomo postavile_i vprašanja\, kot so:\n\nKako kot LGBTIQ+ oseba čim bolj uspešno iskati stanovanje?\nKako navigirati odnose s starši in družino\, ko živimo doma?\nKako naslavljati finančne in stanovanjske posledice korone?\nKakšne oblike državne finančne pomoči obstajajo in kako do njih dostopati?\nKako se odločiti\, ali se bomo razkrile_i cimram_om\, najemodajalkam_cem …?\nKako reagirati na homo-/bi-/transfobijo v različnih bivanjskih situacijah?\nKaj storiti\, če ostanemo brez (primernega) doma?\n\nIn še mnogo drugih vprašanj o stanovanjskih situacijah mladih LGBTIQ+ oseb.\n\nPogovoru o izzivih\, s katerimi se srečujemo\, bo sledilo skupno iskanje rešitev in deljenje dobrih praks.\n\nVrstniške pogovorne skupine bodo potekale enkrat mesečno v živo (izmenoma v Ljubljani in drugje v Sloveniji) ter enkrat mesečno na spletu.\nPrihajajoči termin:\nČetrtek\, 16. 11.\, ob 17h na spletu.
URL:https://ljubljanapride.org/event/vrstniska-pogovorna-skupina-o-stanovanjski-problematike-za-lgbtiq-mlade/
LOCATION:po spletu
ATTACH;FMTTYPE=image/png:https://ljubljanapride.org/wp-content/uploads/2020/10/SQVOT_Pogovorna-skupina_16.11..png
END:VEVENT
END:VCALENDAR