BEGIN:VCALENDAR
VERSION:2.0
PRODID:-//Društvo Parada Ponosa - ECPv6.15.17.1//NONSGML v1.0//EN
CALSCALE:GREGORIAN
METHOD:PUBLISH
X-WR-CALNAME:Društvo Parada Ponosa
X-ORIGINAL-URL:https://ljubljanapride.org
X-WR-CALDESC:Dogodki za Društvo Parada Ponosa
REFRESH-INTERVAL;VALUE=DURATION:PT1H
X-Robots-Tag:noindex
X-PUBLISHED-TTL:PT1H
BEGIN:VTIMEZONE
TZID:Europe/Ljubljana
BEGIN:DAYLIGHT
TZOFFSETFROM:+0100
TZOFFSETTO:+0200
TZNAME:CEST
DTSTART:20230326T010000
END:DAYLIGHT
BEGIN:STANDARD
TZOFFSETFROM:+0200
TZOFFSETTO:+0100
TZNAME:CET
DTSTART:20231029T010000
END:STANDARD
BEGIN:DAYLIGHT
TZOFFSETFROM:+0100
TZOFFSETTO:+0200
TZNAME:CEST
DTSTART:20240331T010000
END:DAYLIGHT
BEGIN:STANDARD
TZOFFSETFROM:+0200
TZOFFSETTO:+0100
TZNAME:CET
DTSTART:20241027T010000
END:STANDARD
BEGIN:DAYLIGHT
TZOFFSETFROM:+0100
TZOFFSETTO:+0200
TZNAME:CEST
DTSTART:20250330T010000
END:DAYLIGHT
BEGIN:STANDARD
TZOFFSETFROM:+0200
TZOFFSETTO:+0100
TZNAME:CET
DTSTART:20251026T010000
END:STANDARD
END:VTIMEZONE
BEGIN:VEVENT
DTSTART;TZID=Europe/Ljubljana:20240308T153000
DTEND;TZID=Europe/Ljubljana:20240308T200000
DTSTAMP:20260420T170506
CREATED:20240305T123116Z
LAST-MODIFIED:20240305T123116Z
UID:8839-1709911800-1709928000@ljubljanapride.org
SUMMARY:Z Društvom Iskra na protest ob dnevu žensk
DESCRIPTION:Pridružite se nam na 8. Marec\, dan žensk\, ko se bomo združile_i v boju vseh žensk za socialne\, ekonomske in politične pravice. To je dan\, ko povzdvignemo glas\, izrazimo svoje nestrinjanje in se borimo proti kapitalizmu in patriarhatu. Je dan\, ko stopimo na ulice in kričimo: “Dovolj je!” \n8. marca 2024 ob 15.30 se bomo zbrale_i na Dunajski cesti 10 (pisarna Društva Parade ponosa) in se skupaj sprehodile_i do Kongresnega trga\, kjer se bomo pridružile_i protestu Društva Iskra. \nOb letošnjem 8. marcu razmišljamo o boju in trpljenju žensk v koloniziranih deželah\, izkazujemo sovraštvo do njihovih izkoriščevalcev ter se navdihujemo ob njihovih dosežkih. Vprašanje svobode zadeva nas vse. Ali so svobodne vse ženske\, ali pa nobena! \nDelo žensk ni manjvredno\, delo žensk je pomembno! Delo žensk je manj cenjeno le zaradi spola. Dovolj nam je dvojnega izkoriščanja! Zahtevamo priznanje reproduktivnega dela žensk in zahtevamo dostojno plačilo zanj. Predvsem pa pozivamo k socialni državi\, ki bo to delo prenesla iz bremen posameznic v roke skupnosti. \nDovolj je vseh oblik izkoriščanja in zatiranja! Dovolj prekarnosti in revščine! Dovolj diskriminacije\, nasilja in vojn! \nStopite z nami in vzklikajte: ‘’Dovolj je!’’
URL:https://ljubljanapride.org/event/z-drustvom-iskra-na-protest-ob-dnevu-zensk/
LOCATION:Društvo Parada ponosa\, Dunajska cesta 10\, Ljubljana
ATTACH;FMTTYPE=image/png:https://ljubljanapride.org/wp-content/uploads/2024/03/Untitled-design.png
END:VEVENT
END:VCALENDAR